BEGIN:VCALENDAR
VERSION:2.0
PRODID:-//The Local Minneapolis - ECPv6.15.20//NONSGML v1.0//EN
CALSCALE:GREGORIAN
METHOD:PUBLISH
X-WR-CALNAME:The Local Minneapolis
X-ORIGINAL-URL:https://thelocalminneapolis.com
X-WR-CALDESC:Events for The Local Minneapolis
REFRESH-INTERVAL;VALUE=DURATION:PT1H
X-Robots-Tag:noindex
X-PUBLISHED-TTL:PT1H
BEGIN:VTIMEZONE
TZID:America/Chicago
BEGIN:DAYLIGHT
TZOFFSETFROM:-0600
TZOFFSETTO:-0500
TZNAME:CDT
DTSTART:20250309T080000
END:DAYLIGHT
BEGIN:STANDARD
TZOFFSETFROM:-0500
TZOFFSETTO:-0600
TZNAME:CST
DTSTART:20251102T070000
END:STANDARD
BEGIN:DAYLIGHT
TZOFFSETFROM:-0600
TZOFFSETTO:-0500
TZNAME:CDT
DTSTART:20260308T080000
END:DAYLIGHT
BEGIN:STANDARD
TZOFFSETFROM:-0500
TZOFFSETTO:-0600
TZNAME:CST
DTSTART:20261101T070000
END:STANDARD
BEGIN:DAYLIGHT
TZOFFSETFROM:-0600
TZOFFSETTO:-0500
TZNAME:CDT
DTSTART:20270314T080000
END:DAYLIGHT
BEGIN:STANDARD
TZOFFSETFROM:-0500
TZOFFSETTO:-0600
TZNAME:CST
DTSTART:20271107T070000
END:STANDARD
END:VTIMEZONE
BEGIN:VEVENT
DTSTART;TZID=America/Chicago:20260425T083000
DTEND;TZID=America/Chicago:20260425T103000
DTSTAMP:20260425T191422
CREATED:20260425T162400Z
LAST-MODIFIED:20260425T162400Z
UID:10000715-1777105800-1777113000@thelocalminneapolis.com
SUMMARY:Mainz vs. Bayern Bundesliga Watch Party - Saturday\, April 25\, 8:30 AM\, Downtown Minneapolis
DESCRIPTION:[vc_row][vc_column][vc_column_text css=””]Join us for the ultimate Bundesliga watch party at The Local – Minneapolis in downtown Minneapolis on Saturday\, April 25th! Mainz vs. Bayern. Located on Nicollet Mall in downtown Minneapolis\, The Local – Minneapolis offers the perfect spot to gather with friends\, savor delicious food and drinks\, and experience the best game-day atmosphere at our Irish pub in downtown Minneapolis.  \nDon’t miss out on this exciting sporting event at your favorite Irish pub in Minneapolis!  \nKick-off is at 8:30 AM\, and we can’t wait to see you there.[/vc_column_text][/vc_column][/vc_row]
URL:https://thelocalminneapolis.com/event/mainz-vs-bayern-bundesliga-watch-party-saturday-april-25-830-am-downtown-minneapolis/
LOCATION:The Local Minneapolis\, 931 Nicollet Mall\, Minneapolis\, MN\, 55402\, United States
CATEGORIES:Sporting Events
ATTACH;FMTTYPE=image/png:https://thelocalminneapolis.com/wp-content/uploads/2026/04/3.png
ORGANIZER;CN="The Local Minneapolis":MAILTO:contact@carairishpubs.com
GEO:44.9740816;-93.2743945
X-APPLE-STRUCTURED-LOCATION;VALUE=URI;X-ADDRESS=The Local Minneapolis 931 Nicollet Mall Minneapolis MN 55402 United States;X-APPLE-RADIUS=500;X-TITLE=931 Nicollet Mall:geo:-93.2743945,44.9740816
END:VEVENT
BEGIN:VEVENT
DTSTART;TZID=America/Chicago:20260425T103000
DTEND;TZID=America/Chicago:20260425T123000
DTSTAMP:20260425T191422
CREATED:20260425T162616Z
LAST-MODIFIED:20260425T162616Z
UID:10000716-1777113000-1777120200@thelocalminneapolis.com
SUMMARY:Arsenal vs. Newcastle Premier League Watch Party - Saturday\, April 25\, 11:30 AM\, Downtown Minneapolis
DESCRIPTION:[vc_row][vc_column][vc_column_text css=””]Join us for the ultimate Premier League watch party at The Local – Minneapolis in downtown Minneapolis on Saturday\, April 25th! Arsenal vs. Newcastle. Located on Nicollet Mall in downtown Minneapolis\, The Local – Minneapolis offers the perfect spot to gather with friends\, savor delicious food and drinks\, and experience the best game-day atmosphere at our Irish pub in downtown Minneapolis.  \nDon’t miss out on this exciting sporting event at your favorite Irish pub in Minneapolis!  \nKick-off is at 11:30 AM\, and we can’t wait to see you there.[/vc_column_text][/vc_column][/vc_row]
URL:https://thelocalminneapolis.com/event/arsenal-vs-newcastle-premier-league-watch-party-saturday-april-25-1130-am-downtown-minneapolis/
LOCATION:The Local Minneapolis\, 931 Nicollet Mall\, Minneapolis\, MN\, 55402\, United States
CATEGORIES:Sporting Events
ATTACH;FMTTYPE=image/png:https://thelocalminneapolis.com/wp-content/uploads/2026/04/4.png
ORGANIZER;CN="The Local Minneapolis":MAILTO:contact@carairishpubs.com
GEO:44.9740816;-93.2743945
X-APPLE-STRUCTURED-LOCATION;VALUE=URI;X-ADDRESS=The Local Minneapolis 931 Nicollet Mall Minneapolis MN 55402 United States;X-APPLE-RADIUS=500;X-TITLE=931 Nicollet Mall:geo:-93.2743945,44.9740816
END:VEVENT
BEGIN:VEVENT
DTSTART;TZID=America/Chicago:20260425T153000
DTEND;TZID=America/Chicago:20260425T173000
DTSTAMP:20260425T191422
CREATED:20260425T162846Z
LAST-MODIFIED:20260425T162846Z
UID:10000717-1777131000-1777138200@thelocalminneapolis.com
SUMMARY:Minnesota vs. LAFC MLS Watch Party - Saturday\, April 25\, 3:45 PM\, Downtown Minneapolis
DESCRIPTION:[vc_row][vc_column][vc_column_text css=””]Join us for the ultimate MLS watch party at The Local – Minneapolis in downtown Minneapolis on Saturday\, April 25th! Minnesota vs. LAFC. Located on Nicollet Mall in downtown Minneapolis\, The Local – Minneapolis offers the perfect spot to gather with friends\, savor delicious food and drinks\, and experience the best game-day atmosphere at our Irish pub in downtown Minneapolis. \nDon’t miss out on this exciting sporting event at your favorite Irish pub in Minneapolis!  \nKick-off is at 3:45 PM\, and we can’t wait to see you there.[/vc_column_text][/vc_column][/vc_row]
URL:https://thelocalminneapolis.com/event/minnesota-vs-lafc-mls-watch-party-saturday-april-25-345-pm-downtown-minneapolis/
LOCATION:The Local Minneapolis\, 931 Nicollet Mall\, Minneapolis\, MN\, 55402\, United States
CATEGORIES:Sporting Events
ATTACH;FMTTYPE=image/png:https://thelocalminneapolis.com/wp-content/uploads/2026/04/5.png
ORGANIZER;CN="The Local Minneapolis":MAILTO:contact@carairishpubs.com
GEO:44.9740816;-93.2743945
X-APPLE-STRUCTURED-LOCATION;VALUE=URI;X-ADDRESS=The Local Minneapolis 931 Nicollet Mall Minneapolis MN 55402 United States;X-APPLE-RADIUS=500;X-TITLE=931 Nicollet Mall:geo:-93.2743945,44.9740816
END:VEVENT
BEGIN:VEVENT
DTSTART;TZID=America/Chicago:20260426T090000
DTEND;TZID=America/Chicago:20260426T110000
DTSTAMP:20260425T191422
CREATED:20260425T163201Z
LAST-MODIFIED:20260425T163201Z
UID:10000718-1777194000-1777201200@thelocalminneapolis.com
SUMMARY:Chelsea vs. Leeds United FA Cup Watch Party - Sunday\, April 26\, 9:00 AM\, Downtown Minneapolis
DESCRIPTION:[vc_row][vc_column][vc_column_text css=””]Join us for the ultimate FA Cup watch party at The Local – Minneapolis in downtown Minneapolis on Sunday\, April 26th! Chelsea vs. Leeds United. Located on Nicollet Mall in downtown Minneapolis\, The Local – Minneapolis offers the perfect spot to gather with friends\, savor delicious food and drinks\, and experience the best game-day atmosphere at our Irish pub in downtown Minneapolis. \nDon’t miss out on this exciting sporting event at your favorite Irish pub in Minneapolis!  \nKick-off is at 9:00 AM\, and we can’t wait to see you there.[/vc_column_text][/vc_column][/vc_row]
URL:https://thelocalminneapolis.com/event/chelsea-vs-leeds-united-fa-cup-watch-party-sunday-april-26-900-am-downtown-minneapolis/
LOCATION:The Local Minneapolis\, 931 Nicollet Mall\, Minneapolis\, MN\, 55402\, United States
CATEGORIES:Sporting Events
ATTACH;FMTTYPE=image/png:https://thelocalminneapolis.com/wp-content/uploads/2026/04/6.png
ORGANIZER;CN="The Local Minneapolis":MAILTO:contact@carairishpubs.com
GEO:44.9740816;-93.2743945
X-APPLE-STRUCTURED-LOCATION;VALUE=URI;X-ADDRESS=The Local Minneapolis 931 Nicollet Mall Minneapolis MN 55402 United States;X-APPLE-RADIUS=500;X-TITLE=931 Nicollet Mall:geo:-93.2743945,44.9740816
END:VEVENT
BEGIN:VEVENT
DTSTART;TZID=America/Chicago:20260428T140000
DTEND;TZID=America/Chicago:20260428T160000
DTSTAMP:20260425T191422
CREATED:20260425T163502Z
LAST-MODIFIED:20260425T163502Z
UID:10000719-1777384800-1777392000@thelocalminneapolis.com
SUMMARY:PSG vs. Bayern Champions League Watch Party - Tuesday\, April 28\, 2:00 PM\, Downtown Minneapolis
DESCRIPTION:[vc_row][vc_column][vc_column_text css=””]Join us for the ultimate Champions League watch party at The Local – Minneapolis in downtown Minneapolis on Tuesday\, April 28th! PSG vs. Bayern. Located on Nicollet Mall in downtown Minneapolis\, The Local – Minneapolis offers the perfect spot to gather with friends\, savor delicious food and drinks\, and experience the best game-day atmosphere at our Irish pub in downtown Minneapolis. \nDon’t miss out on this exciting sporting event at your favorite Irish pub in Minneapolis!  \nKick-off is at 2:00 PM\, and we can’t wait to see you there.[/vc_column_text][/vc_column][/vc_row]
URL:https://thelocalminneapolis.com/event/psg-vs-bayern-champions-league-watch-party-tuesday-april-28-200-pm-downtown-minneapolis/
LOCATION:The Local Minneapolis\, 931 Nicollet Mall\, Minneapolis\, MN\, 55402\, United States
CATEGORIES:Sporting Events
ATTACH;FMTTYPE=image/png:https://thelocalminneapolis.com/wp-content/uploads/2026/04/7.png
ORGANIZER;CN="The Local Minneapolis":MAILTO:contact@carairishpubs.com
GEO:44.9740816;-93.2743945
X-APPLE-STRUCTURED-LOCATION;VALUE=URI;X-ADDRESS=The Local Minneapolis 931 Nicollet Mall Minneapolis MN 55402 United States;X-APPLE-RADIUS=500;X-TITLE=931 Nicollet Mall:geo:-93.2743945,44.9740816
END:VEVENT
BEGIN:VEVENT
DTSTART;TZID=America/Chicago:20260428T200000
DTEND;TZID=America/Chicago:20260428T220000
DTSTAMP:20260425T191422
CREATED:20260425T163719Z
LAST-MODIFIED:20260425T163719Z
UID:10000720-1777406400-1777413600@thelocalminneapolis.com
SUMMARY:San Jose vs. Minnesota United MLS Watch Party - Tuesday\, April 28\, 8:00 PM\, Downtown Minneapolis
DESCRIPTION:[vc_row][vc_column][vc_column_text css=””]Join us for the ultimate MLS watch party at The Local – Minneapolis in downtown Minneapolis on Tuesday\, April 28th! San Jose vs. Minnesota United. Located on Nicollet Mall in downtown Minneapolis\, The Local – Minneapolis offers the perfect spot to gather with friends\, savor delicious food and drinks\, and experience the best game-day atmosphere at our Irish pub in downtown Minneapolis. \nDon’t miss out on this exciting sporting event at your favorite Irish pub in Minneapolis!  \nKick-off is at 8:00 PM\, and we can’t wait to see you there.[/vc_column_text][/vc_column][/vc_row]
URL:https://thelocalminneapolis.com/event/san-jose-vs-minnesota-united-mls-watch-party-tuesday-april-28-800-pm-downtown-minneapolis/
LOCATION:The Local Minneapolis\, 931 Nicollet Mall\, Minneapolis\, MN\, 55402\, United States
CATEGORIES:Sporting Events
ATTACH;FMTTYPE=image/png:https://thelocalminneapolis.com/wp-content/uploads/2026/04/8.png
ORGANIZER;CN="The Local Minneapolis":MAILTO:contact@carairishpubs.com
GEO:44.9740816;-93.2743945
X-APPLE-STRUCTURED-LOCATION;VALUE=URI;X-ADDRESS=The Local Minneapolis 931 Nicollet Mall Minneapolis MN 55402 United States;X-APPLE-RADIUS=500;X-TITLE=931 Nicollet Mall:geo:-93.2743945,44.9740816
END:VEVENT
BEGIN:VEVENT
DTSTART;TZID=America/Chicago:20260429T140000
DTEND;TZID=America/Chicago:20260429T160000
DTSTAMP:20260425T191422
CREATED:20260425T164001Z
LAST-MODIFIED:20260425T164001Z
UID:10000721-1777471200-1777478400@thelocalminneapolis.com
SUMMARY:Atletico Madrid vs. Arsenal Champions League Watch Party - Wednesday\, April 29\, 2:00 PM\, Downtown Minneapolis
DESCRIPTION:[vc_row][vc_column][vc_column_text css=””]Join us for the ultimate Champions League watch party at The Local – Minneapolis in downtown Minneapolis on Wednesday\, April 29th! Atletico Madrid vs. Arsenal. Located on Nicollet Mall in downtown Minneapolis\, The Local – Minneapolis offers the perfect spot to gather with friends\, savor delicious food and drinks\, and experience the best game-day atmosphere at our Irish pub in downtown Minneapolis. \nDon’t miss out on this exciting sporting event at your favorite Irish pub in Minneapolis!  \nKick-off is at 2:00 PM\, and we can’t wait to see you there.[/vc_column_text][/vc_column][/vc_row]
URL:https://thelocalminneapolis.com/event/atletico-madrid-vs-arsenal-champions-league-watch-party-wednesday-april-29-200-pm-downtown-minneapolis/
LOCATION:The Local Minneapolis\, 931 Nicollet Mall\, Minneapolis\, MN\, 55402\, United States
CATEGORIES:Sporting Events
ATTACH;FMTTYPE=image/png:https://thelocalminneapolis.com/wp-content/uploads/2026/04/9.png
ORGANIZER;CN="The Local Minneapolis":MAILTO:contact@carairishpubs.com
GEO:44.9740816;-93.2743945
X-APPLE-STRUCTURED-LOCATION;VALUE=URI;X-ADDRESS=The Local Minneapolis 931 Nicollet Mall Minneapolis MN 55402 United States;X-APPLE-RADIUS=500;X-TITLE=931 Nicollet Mall:geo:-93.2743945,44.9740816
END:VEVENT
END:VCALENDAR