BEGIN:VCALENDAR
VERSION:2.0
PRODID:-//The Local Minneapolis - ECPv6.15.20//NONSGML v1.0//EN
CALSCALE:GREGORIAN
METHOD:PUBLISH
X-ORIGINAL-URL:https://thelocalminneapolis.com
X-WR-CALDESC:Events for The Local Minneapolis
REFRESH-INTERVAL;VALUE=DURATION:PT1H
X-Robots-Tag:noindex
X-PUBLISHED-TTL:PT1H
BEGIN:VTIMEZONE
TZID:America/Chicago
BEGIN:DAYLIGHT
TZOFFSETFROM:-0600
TZOFFSETTO:-0500
TZNAME:CDT
DTSTART:20240310T080000
END:DAYLIGHT
BEGIN:STANDARD
TZOFFSETFROM:-0500
TZOFFSETTO:-0600
TZNAME:CST
DTSTART:20241103T070000
END:STANDARD
BEGIN:DAYLIGHT
TZOFFSETFROM:-0600
TZOFFSETTO:-0500
TZNAME:CDT
DTSTART:20250309T080000
END:DAYLIGHT
BEGIN:STANDARD
TZOFFSETFROM:-0500
TZOFFSETTO:-0600
TZNAME:CST
DTSTART:20251102T070000
END:STANDARD
BEGIN:DAYLIGHT
TZOFFSETFROM:-0600
TZOFFSETTO:-0500
TZNAME:CDT
DTSTART:20260308T080000
END:DAYLIGHT
BEGIN:STANDARD
TZOFFSETFROM:-0500
TZOFFSETTO:-0600
TZNAME:CST
DTSTART:20261101T070000
END:STANDARD
END:VTIMEZONE
BEGIN:VEVENT
DTSTART;TZID=America/Chicago:20250202T080000
DTEND;TZID=America/Chicago:20250202T100000
DTSTAMP:20260421T163406
CREATED:20250129T174644Z
LAST-MODIFIED:20250129T174644Z
UID:10000098-1738483200-1738490400@thelocalminneapolis.com
SUMMARY:Manchester United vs. Crystal Palace Premier League Watch Party - Sunday\, February 2\, 8:00 AM\, Downtown Minneapolis
DESCRIPTION:Join us for the ultimate Premier League watch party at The Local – Minneapolis in downtown Minneapolis on Sunday\, February 2nd! Manchester United vs. Crystal Palace. Located on Nicollet Mall in downtown Minneapolis\, The Local – Minneapolis offers the perfect spot to gather with friends\, savor delicious food and drinks\, and experience the best game-day atmosphere at our Irish pub in downtown Minneapolis. Don’t miss out on this exciting sporting event at your favorite Irish pub in Minneapolis! Kick-off is at 8:00am\, and we can’t wait to see you there.
URL:https://thelocalminneapolis.com/event/manchester-united-vs-crystal-palace-premier-league-watch-party-sunday-february-2-800-am-downtown-minneapolis/
LOCATION:MN
CATEGORIES:Sporting Events
ATTACH;FMTTYPE=image/png:https://thelocalminneapolis.com/wp-content/uploads/2025/01/2.png
ORGANIZER;CN="The Local Minneapolis":MAILTO:contact@carairishpubs.com
END:VEVENT
BEGIN:VEVENT
DTSTART;TZID=America/Chicago:20250202T103000
DTEND;TZID=America/Chicago:20250202T123000
DTSTAMP:20260421T163406
CREATED:20250129T174935Z
LAST-MODIFIED:20250129T174935Z
UID:10000099-1738492200-1738499400@thelocalminneapolis.com
SUMMARY:Arsenal vs. Manchester City Premier League Watch Party - Sunday\, February 2\, 10:30 AM\, Downtown Minneapolis
DESCRIPTION:Join us for the ultimate Premier League watch party at The Local – Minneapolis in downtown Minneapolis on Sunday\, February 2nd! Arsenal vs. Manchester City. Located on Nicollet Mall in downtown Minneapolis\, The Local – Minneapolis offers the perfect spot to gather with friends\, savor delicious food and drinks\, and experience the best game-day atmosphere at our Irish pub in downtown Minneapolis. Don’t miss out on this exciting sporting event at your favorite Irish pub in Minneapolis! Kick-off is at 10:30am\, and we can’t wait to see you there.
URL:https://thelocalminneapolis.com/event/arsenal-vs-manchester-city-premier-league-watch-party-sunday-february-2-1030-am-downtown-minneapolis/
LOCATION:MN
CATEGORIES:Sporting Events
ATTACH;FMTTYPE=image/png:https://thelocalminneapolis.com/wp-content/uploads/2025/01/3.png
ORGANIZER;CN="The Local Minneapolis":MAILTO:contact@carairishpubs.com
END:VEVENT
BEGIN:VEVENT
DTSTART;TZID=America/Chicago:20250205T140000
DTEND;TZID=America/Chicago:20250205T160000
DTSTAMP:20260421T163406
CREATED:20250129T175208Z
LAST-MODIFIED:20250129T175208Z
UID:10000100-1738764000-1738771200@thelocalminneapolis.com
SUMMARY:Newcastle vs. Arsenal EFL Cup Watch Party - Wednesday\, February 5\, 2:00 PM\, Downtown Minneapolis
DESCRIPTION:Join us for the ultimate EFL Cup watch party at The Local – Minneapolis in downtown Minneapolis on Wednesday\, February 5th! Newcastle vs. Arsenal. Located on Nicollet Mall in downtown Minneapolis\, The Local – Minneapolis offers the perfect spot to gather with friends\, savor delicious food and drinks\, and experience the best game-day atmosphere at our Irish pub in downtown Minneapolis. Don’t miss out on this exciting sporting event at your favorite Irish pub in Minneapolis! Kick-off is at 2:00pm\, and we can’t wait to see you there.
URL:https://thelocalminneapolis.com/event/newcastle-vs-arsenal-efl-cup-watch-party-wednesday-february-5-200-pm-downtown-minneapolis/
LOCATION:MN
CATEGORIES:Sporting Events
ATTACH;FMTTYPE=image/png:https://thelocalminneapolis.com/wp-content/uploads/2025/01/new-1.png
ORGANIZER;CN="The Local Minneapolis":MAILTO:contact@carairishpubs.com
END:VEVENT
BEGIN:VEVENT
DTSTART;TZID=America/Chicago:20250216T103000
DTEND;TZID=America/Chicago:20250216T123000
DTSTAMP:20260421T163406
CREATED:20250129T180436Z
LAST-MODIFIED:20250129T180436Z
UID:10000104-1739701800-1739709000@thelocalminneapolis.com
SUMMARY:Tottenham vs. Manchester United Premier League Watch Party - Sunday\, February 16\, 10:30 AM\, Downtown Minneapolis
DESCRIPTION:Join us for the ultimate Premier League watch party at The Local – Minneapolis in downtown Minneapolis on Sunday\, February 16th! Tottenham vs. Manchester United. Located on Nicollet Mall in downtown Minneapolis\, The Local – Minneapolis offers the perfect spot to gather with friends\, savor delicious food and drinks\, and experience the best game-day atmosphere at our Irish pub in downtown Minneapolis. Don’t miss out on this exciting sporting event at your favorite Irish pub in Minneapolis! Kick-off is at 10:30am\, and we can’t wait to see you there.
URL:https://thelocalminneapolis.com/event/tottenham-vs-manchester-united-premier-league-watch-party-sunday-february-16-1030-am-downtown-minneapolis/
LOCATION:MN
CATEGORIES:Sporting Events
ATTACH;FMTTYPE=image/png:https://thelocalminneapolis.com/wp-content/uploads/2025/01/8-1.png
ORGANIZER;CN="The Local Minneapolis":MAILTO:contact@carairishpubs.com
END:VEVENT
BEGIN:VEVENT
DTSTART;TZID=America/Chicago:20250222T090000
DTEND;TZID=America/Chicago:20250222T110000
DTSTAMP:20260421T163406
CREATED:20250129T180707Z
LAST-MODIFIED:20250129T180707Z
UID:10000105-1740214800-1740222000@thelocalminneapolis.com
SUMMARY:Arsenal vs. West Ham Premier League Watch Party - Saturday\, February 22\, 9:00 AM\, Downtown Minneapolis
DESCRIPTION:Join us for the ultimate Premier League watch party at The Local – Minneapolis in downtown Minneapolis on Saturday\, February 22nd! Arsenal vs. West Ham. Located on Nicollet Mall in downtown Minneapolis\, The Local – Minneapolis offers the perfect spot to gather with friends\, savor delicious food and drinks\, and experience the best game-day atmosphere at our Irish pub in downtown Minneapolis. Don’t miss out on this exciting sporting event at your favorite Irish pub in Minneapolis! Kick-off is at 9:00am\, and we can’t wait to see you there.
URL:https://thelocalminneapolis.com/event/arsenal-vs-west-ham-premier-league-watch-party-saturday-february-22-900-am-downtown-minneapolis/
LOCATION:MN
CATEGORIES:Sporting Events
ATTACH;FMTTYPE=image/png:https://thelocalminneapolis.com/wp-content/uploads/2025/01/9-1.png
ORGANIZER;CN="The Local Minneapolis":MAILTO:contact@carairishpubs.com
END:VEVENT
BEGIN:VEVENT
DTSTART;TZID=America/Chicago:20250226T133000
DTEND;TZID=America/Chicago:20250226T143000
DTSTAMP:20260421T163406
CREATED:20250129T181318Z
LAST-MODIFIED:20250129T181318Z
UID:10000107-1740576600-1740580200@thelocalminneapolis.com
SUMMARY:Nottingham Forrest vs. Arsenal Premier League Watch Party - Wednesday\, February 26\, 1:30 PM\, Downtown Minneapolis
DESCRIPTION:Join us for the ultimate Premier League watch party at The Local – Minneapolis in downtown Minneapolis on Wednesday\, February 26th! Nottingham Forrest vs. Arsenal. Located on Nicollet Mall in downtown Minneapolis\, The Local – Minneapolis offers the perfect spot to gather with friends\, savor delicious food and drinks\, and experience the best game-day atmosphere at our Irish pub in downtown Minneapolis. Don’t miss out on this exciting sporting event at your favorite Irish pub in Minneapolis! Kick-off is at 1:30pm\, and we can’t wait to see you there.
URL:https://thelocalminneapolis.com/event/nottingham-forrest-vs-arsenal-premier-league-watch-party-wednesday-february-26-130-pm-downtown-minneapolis/
LOCATION:MN
CATEGORIES:Sporting Events
ATTACH;FMTTYPE=image/png:https://thelocalminneapolis.com/wp-content/uploads/2025/01/11-1.png
ORGANIZER;CN="The Local Minneapolis":MAILTO:contact@carairishpubs.com
END:VEVENT
BEGIN:VEVENT
DTSTART;TZID=America/Chicago:20250226T133000
DTEND;TZID=America/Chicago:20250226T143000
DTSTAMP:20260421T163406
CREATED:20250129T181610Z
LAST-MODIFIED:20250129T181610Z
UID:10000108-1740576600-1740580200@thelocalminneapolis.com
SUMMARY:Manchester United vs. Ipswich Town Premier League Watch Party - Wednesday\, February 26\, 1:30 PM\, Downtown Minneapolis
DESCRIPTION:Join us for the ultimate Premier League watch party at The Local – Minneapolis in downtown Minneapolis on Wednesday\, February 26th! Manchester United vs. Ipswich Town. Located on Nicollet Mall in downtown Minneapolis\, The Local – Minneapolis offers the perfect spot to gather with friends\, savor delicious food and drinks\, and experience the best game-day atmosphere at our Irish pub in downtown Minneapolis. Don’t miss out on this exciting sporting event at your favorite Irish pub in Minneapolis! Kick-off is at 1:30pm\, and we can’t wait to see you there.
URL:https://thelocalminneapolis.com/event/manchester-united-vs-ipswich-town-premier-league-watch-party-wednesday-february-26-130-pm-downtown-minneapolis/
LOCATION:MN
CATEGORIES:Sporting Events
ATTACH;FMTTYPE=image/png:https://thelocalminneapolis.com/wp-content/uploads/2025/01/12-1.png
ORGANIZER;CN="The Local Minneapolis":MAILTO:contact@carairishpubs.com
END:VEVENT
END:VCALENDAR