BEGIN:VCALENDAR
VERSION:2.0
PRODID:-//The Local Minneapolis - ECPv6.15.20//NONSGML v1.0//EN
CALSCALE:GREGORIAN
METHOD:PUBLISH
X-ORIGINAL-URL:https://thelocalminneapolis.com
X-WR-CALDESC:Events for The Local Minneapolis
REFRESH-INTERVAL;VALUE=DURATION:PT1H
X-Robots-Tag:noindex
X-PUBLISHED-TTL:PT1H
BEGIN:VTIMEZONE
TZID:America/Chicago
BEGIN:DAYLIGHT
TZOFFSETFROM:-0600
TZOFFSETTO:-0500
TZNAME:CDT
DTSTART:20240310T080000
END:DAYLIGHT
BEGIN:STANDARD
TZOFFSETFROM:-0500
TZOFFSETTO:-0600
TZNAME:CST
DTSTART:20241103T070000
END:STANDARD
BEGIN:DAYLIGHT
TZOFFSETFROM:-0600
TZOFFSETTO:-0500
TZNAME:CDT
DTSTART:20250309T080000
END:DAYLIGHT
BEGIN:STANDARD
TZOFFSETFROM:-0500
TZOFFSETTO:-0600
TZNAME:CST
DTSTART:20251102T070000
END:STANDARD
BEGIN:DAYLIGHT
TZOFFSETFROM:-0600
TZOFFSETTO:-0500
TZNAME:CDT
DTSTART:20260308T080000
END:DAYLIGHT
BEGIN:STANDARD
TZOFFSETFROM:-0500
TZOFFSETTO:-0600
TZNAME:CST
DTSTART:20261101T070000
END:STANDARD
END:VTIMEZONE
BEGIN:VEVENT
DTSTART;TZID=America/Chicago:20250401T134500
DTEND;TZID=America/Chicago:20250401T154500
DTSTAMP:20260421T134634
CREATED:20250327T181931Z
LAST-MODIFIED:20250327T181931Z
UID:10000128-1743515100-1743522300@thelocalminneapolis.com
SUMMARY:Arsenal vs. Fulham Premier League Watch Party - Tuesday\, April 1\, 1:45 PM\, Downtown Minneapolis
DESCRIPTION:Join us for the ultimate Premier League watch party at The Local – Minneapolis in downtown Minneapolis on Tuesday\, April 1st! Arsenal vs. Fulham. Located on Nicollet Mall in downtown Minneapolis\, The Local – Minneapolis offers the perfect spot to gather with friends\, savor delicious food and drinks\, and experience the best game-day atmosphere at our Irish pub in downtown Minneapolis. Don’t miss out on this exciting sporting event at your favorite Irish pub in Minneapolis! Kick-off is at 1:45 PM\, and we can’t wait to see you there.
URL:https://thelocalminneapolis.com/event/arsenal-vs-fulham-premier-league-watch-party-tuesday-april-1-145-pm-downtown-minneapolis/
LOCATION:The Local Minneapolis\, 931 Nicollet Mall\, Minneapolis\, MN\, 55402\, United States
CATEGORIES:Sporting Events
ATTACH;FMTTYPE=image/png:https://thelocalminneapolis.com/wp-content/uploads/2025/03/2.png
ORGANIZER;CN="The Local Minneapolis":MAILTO:contact@carairishpubs.com
GEO:44.9740816;-93.2743945
X-APPLE-STRUCTURED-LOCATION;VALUE=URI;X-ADDRESS=The Local Minneapolis 931 Nicollet Mall Minneapolis MN 55402 United States;X-APPLE-RADIUS=500;X-TITLE=931 Nicollet Mall:geo:-93.2743945,44.9740816
END:VEVENT
BEGIN:VEVENT
DTSTART;TZID=America/Chicago:20250401T140000
DTEND;TZID=America/Chicago:20250401T160000
DTSTAMP:20260421T134634
CREATED:20250327T182241Z
LAST-MODIFIED:20250327T182241Z
UID:10000129-1743516000-1743523200@thelocalminneapolis.com
SUMMARY:Nottingham Forest vs. Manchester United Premier League Watch Party - Tuesday\, April 1\, 2:00 PM\, Downtown Minneapolis
DESCRIPTION:Join us for the ultimate Premier League watch party at The Local – Minneapolis in downtown Minneapolis on Tuesday\, April 1st! Nottingham Forest vs. Manchester United. Located on Nicollet Mall in downtown Minneapolis\, The Local – Minneapolis offers the perfect spot to gather with friends\, savor delicious food and drinks\, and experience the best game-day atmosphere at our Irish pub in downtown Minneapolis. Don’t miss out on this exciting sporting event at your favorite Irish pub in Minneapolis! Kick-off is at 2:00 PM\, and we can’t wait to see you there.
URL:https://thelocalminneapolis.com/event/nottingham-forest-vs-manchester-united-premier-league-watch-party-tuesday-april-1-200-pm-downtown-minneapolis/
LOCATION:The Local Minneapolis\, 931 Nicollet Mall\, Minneapolis\, MN\, 55402\, United States
CATEGORIES:Sporting Events
ATTACH;FMTTYPE=image/png:https://thelocalminneapolis.com/wp-content/uploads/2025/03/3.png
ORGANIZER;CN="The Local Minneapolis":MAILTO:contact@carairishpubs.com
GEO:44.9740816;-93.2743945
X-APPLE-STRUCTURED-LOCATION;VALUE=URI;X-ADDRESS=The Local Minneapolis 931 Nicollet Mall Minneapolis MN 55402 United States;X-APPLE-RADIUS=500;X-TITLE=931 Nicollet Mall:geo:-93.2743945,44.9740816
END:VEVENT
BEGIN:VEVENT
DTSTART;TZID=America/Chicago:20250406T103000
DTEND;TZID=America/Chicago:20250406T123000
DTSTAMP:20260421T134634
CREATED:20250327T182903Z
LAST-MODIFIED:20250327T182903Z
UID:10000131-1743935400-1743942600@thelocalminneapolis.com
SUMMARY:Manchester United vs. Manchester City Premier League Watch Party - Sunday\, April 6\, 10:30 AM\, Downtown Minneapolis
DESCRIPTION:Join us for the ultimate Premier League watch party at The Local – Minneapolis in downtown Minneapolis on Sunday\, April 6th! Manchester United vs. Manchester City. Located on Nicollet Mall in downtown Minneapolis\, The Local – Minneapolis offers the perfect spot to gather with friends\, savor delicious food and drinks\, and experience the best game-day atmosphere at our Irish pub in downtown Minneapolis. Don’t miss out on this exciting sporting event at your favorite Irish pub in Minneapolis! Kick-off is at 10:30 AM\, and we can’t wait to see you there.
URL:https://thelocalminneapolis.com/event/manchester-united-vs-manchester-city-premier-league-watch-party-sunday-april-6-1030-am-downtown-minneapolis/
LOCATION:The Local Minneapolis\, 931 Nicollet Mall\, Minneapolis\, MN\, 55402\, United States
CATEGORIES:Sporting Events
ATTACH;FMTTYPE=image/png:https://thelocalminneapolis.com/wp-content/uploads/2025/03/5.png
ORGANIZER;CN="The Local Minneapolis":MAILTO:contact@carairishpubs.com
GEO:44.9740816;-93.2743945
X-APPLE-STRUCTURED-LOCATION;VALUE=URI;X-ADDRESS=The Local Minneapolis 931 Nicollet Mall Minneapolis MN 55402 United States;X-APPLE-RADIUS=500;X-TITLE=931 Nicollet Mall:geo:-93.2743945,44.9740816
END:VEVENT
BEGIN:VEVENT
DTSTART;TZID=America/Chicago:20250412T113000
DTEND;TZID=America/Chicago:20250412T133000
DTSTAMP:20260421T134634
CREATED:20250327T201159Z
LAST-MODIFIED:20250327T201159Z
UID:10000135-1744457400-1744464600@thelocalminneapolis.com
SUMMARY:Arsenal vs. Brentford Premier League Watch Party - Saturday\, April 12\, 11:30 AM\, Downtown Minneapolis
DESCRIPTION:Join us for the ultimate Premier League watch party at The Local – Minneapolis in downtown Minneapolis on Saturday\, April 12th! Arsenal vs. Brentford. Located on Nicollet Mall in downtown Minneapolis\, The Local – Minneapolis offers the perfect spot to gather with friends\, savor delicious food and drinks\, and experience the best game-day atmosphere at our Irish pub in downtown Minneapolis. Don’t miss out on this exciting sporting event at your favorite Irish pub in Minneapolis! Kick-off is at 11:30 AM\, and we can’t wait to see you there.
URL:https://thelocalminneapolis.com/event/arsenal-vs-brentford-premier-league-watch-party-saturday-april-12-1130-am-downtown-minneapolis/
LOCATION:The Local Minneapolis\, 931 Nicollet Mall\, Minneapolis\, MN\, 55402\, United States
CATEGORIES:Sporting Events
ATTACH;FMTTYPE=image/png:https://thelocalminneapolis.com/wp-content/uploads/2025/03/9.png
ORGANIZER;CN="The Local Minneapolis":MAILTO:contact@carairishpubs.com
GEO:44.9740816;-93.2743945
X-APPLE-STRUCTURED-LOCATION;VALUE=URI;X-ADDRESS=The Local Minneapolis 931 Nicollet Mall Minneapolis MN 55402 United States;X-APPLE-RADIUS=500;X-TITLE=931 Nicollet Mall:geo:-93.2743945,44.9740816
END:VEVENT
BEGIN:VEVENT
DTSTART;TZID=America/Chicago:20250413T103000
DTEND;TZID=America/Chicago:20250413T123000
DTSTAMP:20260421T134634
CREATED:20250327T201709Z
LAST-MODIFIED:20250327T201709Z
UID:10000137-1744540200-1744547400@thelocalminneapolis.com
SUMMARY:Newcastle vs. Manchester United Premier League Watch Party - Sunday\, April 13\, 10:30 AM\, Downtown Minneapolis
DESCRIPTION:Join us for the ultimate Premier League watch party at The Local – Minneapolis in downtown Minneapolis on Sunday\, April 13th! ASunday\, April 13th. Located on Nicollet Mall in downtown Minneapolis\, The Local – Minneapolis offers the perfect spot to gather with friends\, savor delicious food and drinks\, and experience the best game-day atmosphere at our Irish pub in downtown Minneapolis. Don’t miss out on this exciting sporting event at your favorite Irish pub in Minneapolis! Kick-off is at 10:30 AM\, and we can’t wait to see you there.
URL:https://thelocalminneapolis.com/event/newcastle-vs-manchester-united-premier-league-watch-party-sunday-april-13-1030-am-downtown-minneapolis/
LOCATION:The Local Minneapolis\, 931 Nicollet Mall\, Minneapolis\, MN\, 55402\, United States
CATEGORIES:Sporting Events
ATTACH;FMTTYPE=image/png:https://thelocalminneapolis.com/wp-content/uploads/2025/03/11.png
ORGANIZER;CN="The Local Minneapolis":MAILTO:contact@carairishpubs.com
GEO:44.9740816;-93.2743945
X-APPLE-STRUCTURED-LOCATION;VALUE=URI;X-ADDRESS=The Local Minneapolis 931 Nicollet Mall Minneapolis MN 55402 United States;X-APPLE-RADIUS=500;X-TITLE=931 Nicollet Mall:geo:-93.2743945,44.9740816
END:VEVENT
BEGIN:VEVENT
DTSTART;TZID=America/Chicago:20250420T080000
DTEND;TZID=America/Chicago:20250420T100000
DTSTAMP:20260421T134634
CREATED:20250327T203546Z
LAST-MODIFIED:20250327T203546Z
UID:10000141-1745136000-1745143200@thelocalminneapolis.com
SUMMARY:Ipswich Town vs. Arsenal Premier League Watch Party - Sunday\, April 20\, 8:00 AM\, Downtown Minneapolis
DESCRIPTION:Join us for the ultimate Premier League watch party at The Local – Minneapolis in downtown Minneapolis on Sunday\, April 20th! Ipswich Town vs. Arsenal. Located on Nicollet Mall in downtown Minneapolis\, The Local – Minneapolis offers the perfect spot to gather with friends\, savor delicious food and drinks\, and experience the best game-day atmosphere at our Irish pub in downtown Minneapolis. Don’t miss out on this exciting sporting event at your favorite Irish pub in Minneapolis! Kick-off is at 8:00 AM\, and we can’t wait to see you there.
URL:https://thelocalminneapolis.com/event/ipswich-town-vs-arsenal-premier-league-watch-party-sunday-april-20-800-am-downtown-minneapolis/
LOCATION:The Local Minneapolis\, 931 Nicollet Mall\, Minneapolis\, MN\, 55402\, United States
CATEGORIES:Sporting Events
ATTACH;FMTTYPE=image/png:https://thelocalminneapolis.com/wp-content/uploads/2025/03/16.png
ORGANIZER;CN="The Local Minneapolis":MAILTO:contact@carairishpubs.com
GEO:44.9740816;-93.2743945
X-APPLE-STRUCTURED-LOCATION;VALUE=URI;X-ADDRESS=The Local Minneapolis 931 Nicollet Mall Minneapolis MN 55402 United States;X-APPLE-RADIUS=500;X-TITLE=931 Nicollet Mall:geo:-93.2743945,44.9740816
END:VEVENT
BEGIN:VEVENT
DTSTART;TZID=America/Chicago:20250420T080000
DTEND;TZID=America/Chicago:20250420T100000
DTSTAMP:20260421T134634
CREATED:20250327T203830Z
LAST-MODIFIED:20250327T203830Z
UID:10000142-1745136000-1745143200@thelocalminneapolis.com
SUMMARY:Manchester United vs. Wolverhampton Wolves Premier League Watch Party - Sunday\, April 20\, 8:00 AM\, Downtown Minneapolis
DESCRIPTION:Join us for the ultimate Premier League watch party at The Local – Minneapolis in downtown Minneapolis on Sunday\, April 20th! Manchester United vs. Wolverhampton Wolves. Located on Nicollet Mall in downtown Minneapolis\, The Local – Minneapolis offers the perfect spot to gather with friends\, savor delicious food and drinks\, and experience the best game-day atmosphere at our Irish pub in downtown Minneapolis. Don’t miss out on this exciting sporting event at your favorite Irish pub in Minneapolis! Kick-off is at 8:00 AM\, and we can’t wait to see you there.
URL:https://thelocalminneapolis.com/event/manchester-united-vs-wolverhampton-wolves-premier-league-watch-party-sunday-april-20-800-am-downtown-minneapolis/
LOCATION:The Local Minneapolis\, 931 Nicollet Mall\, Minneapolis\, MN\, 55402\, United States
CATEGORIES:Sporting Events
ATTACH;FMTTYPE=image/png:https://thelocalminneapolis.com/wp-content/uploads/2025/03/17.png
ORGANIZER;CN="The Local Minneapolis":MAILTO:contact@carairishpubs.com
GEO:44.9740816;-93.2743945
X-APPLE-STRUCTURED-LOCATION;VALUE=URI;X-ADDRESS=The Local Minneapolis 931 Nicollet Mall Minneapolis MN 55402 United States;X-APPLE-RADIUS=500;X-TITLE=931 Nicollet Mall:geo:-93.2743945,44.9740816
END:VEVENT
BEGIN:VEVENT
DTSTART;TZID=America/Chicago:20250423T140000
DTEND;TZID=America/Chicago:20250423T163000
DTSTAMP:20260421T134634
CREATED:20250327T204357Z
LAST-MODIFIED:20250423T172021Z
UID:10000144-1745416800-1745425800@thelocalminneapolis.com
SUMMARY:Arsenal vs. Crystal Palace Premier League Watch Party - Wednesday\, April 23\, 2:00 PM\, Downtown Minneapolis
DESCRIPTION:Join us for the ultimate Premier League watch party at The Local – Minneapolis in downtown Minneapolis on Wednesday\, April 23rd! Arsenal vs. Crystal Palace. Located on Nicollet Mall in downtown Minneapolis\, The Local – Minneapolis offers the perfect spot to gather with friends\, savor delicious food and drinks\, and experience the best game-day atmosphere at our Irish pub in downtown Minneapolis. Don’t miss out on this exciting sporting event at your favorite Irish pub in Minneapolis! Kick-off is at 2:00 PM\, and we can’t wait to see you there.
URL:https://thelocalminneapolis.com/event/arsenal-vs-crystal-palace-premier-league-watch-party-saturday-april-26-1130-am-downtown-minneapolis/
LOCATION:The Local Minneapolis\, 931 Nicollet Mall\, Minneapolis\, MN\, 55402\, United States
CATEGORIES:Sporting Events
ATTACH;FMTTYPE=image/png:https://thelocalminneapolis.com/wp-content/uploads/2025/03/19.png
ORGANIZER;CN="The Local Minneapolis":MAILTO:contact@carairishpubs.com
GEO:44.9740816;-93.2743945
X-APPLE-STRUCTURED-LOCATION;VALUE=URI;X-ADDRESS=The Local Minneapolis 931 Nicollet Mall Minneapolis MN 55402 United States;X-APPLE-RADIUS=500;X-TITLE=931 Nicollet Mall:geo:-93.2743945,44.9740816
END:VEVENT
END:VCALENDAR