BEGIN:VCALENDAR
VERSION:2.0
PRODID:-//The Local Minneapolis - ECPv6.15.20//NONSGML v1.0//EN
CALSCALE:GREGORIAN
METHOD:PUBLISH
X-WR-CALNAME:The Local Minneapolis
X-ORIGINAL-URL:https://thelocalminneapolis.com
X-WR-CALDESC:Events for The Local Minneapolis
REFRESH-INTERVAL;VALUE=DURATION:PT1H
X-Robots-Tag:noindex
X-PUBLISHED-TTL:PT1H
BEGIN:VTIMEZONE
TZID:America/Chicago
BEGIN:DAYLIGHT
TZOFFSETFROM:-0600
TZOFFSETTO:-0500
TZNAME:CDT
DTSTART:20240310T080000
END:DAYLIGHT
BEGIN:STANDARD
TZOFFSETFROM:-0500
TZOFFSETTO:-0600
TZNAME:CST
DTSTART:20241103T070000
END:STANDARD
BEGIN:DAYLIGHT
TZOFFSETFROM:-0600
TZOFFSETTO:-0500
TZNAME:CDT
DTSTART:20250309T080000
END:DAYLIGHT
BEGIN:STANDARD
TZOFFSETFROM:-0500
TZOFFSETTO:-0600
TZNAME:CST
DTSTART:20251102T070000
END:STANDARD
BEGIN:DAYLIGHT
TZOFFSETFROM:-0600
TZOFFSETTO:-0500
TZNAME:CDT
DTSTART:20260308T080000
END:DAYLIGHT
BEGIN:STANDARD
TZOFFSETFROM:-0500
TZOFFSETTO:-0600
TZNAME:CST
DTSTART:20261101T070000
END:STANDARD
END:VTIMEZONE
BEGIN:VEVENT
DTSTART;TZID=America/Chicago:20250913T090000
DTEND;TZID=America/Chicago:20250913T113000
DTSTAMP:20260421T063544
CREATED:20250827T192700Z
LAST-MODIFIED:20250827T192700Z
UID:10000233-1757754000-1757763000@thelocalminneapolis.com
SUMMARY:Fulham vs. Leeds United Premier League Watch Party - Saturday\, September 13\, 9:00 AM\, Downtown Minneapolis
DESCRIPTION:[vc_row][vc_column][vc_column_text css=””]Join us for the ultimate Premier League watch party at The Local – Minneapolis in downtown Minneapolis on Saturday\, September 13th! Fulham vs. Leeds United. Located on Nicollet Mall in downtown Minneapolis\, The Local – Minneapolis offers the perfect spot to gather with friends\, savor delicious food and drinks\, and experience the best game-day atmosphere at our Irish pub in downtown Minneapolis. Don’t miss out on this exciting sporting event at your favorite Irish pub in Minneapolis! Kick-off is at 9:00 AM\, and we can’t wait to see you there.[/vc_column_text][/vc_column][/vc_row]
URL:https://thelocalminneapolis.com/event/fulham-vs-leeds-united-premier-league-watch-party-saturday-september-13-900-am-downtown-minneapolis/
LOCATION:The Local Minneapolis\, 931 Nicollet Mall\, Minneapolis\, MN\, 55402\, United States
CATEGORIES:Sporting Events
ATTACH;FMTTYPE=image/png:https://thelocalminneapolis.com/wp-content/uploads/2025/08/September-2025-Local-MPLS-Event-Thumbnails.png
ORGANIZER;CN="The Local Minneapolis":MAILTO:contact@carairishpubs.com
GEO:44.9740816;-93.2743945
X-APPLE-STRUCTURED-LOCATION;VALUE=URI;X-ADDRESS=The Local Minneapolis 931 Nicollet Mall Minneapolis MN 55402 United States;X-APPLE-RADIUS=500;X-TITLE=931 Nicollet Mall:geo:-93.2743945,44.9740816
END:VEVENT
BEGIN:VEVENT
DTSTART;TZID=America/Chicago:20250913T090000
DTEND;TZID=America/Chicago:20250913T113000
DTSTAMP:20260421T063544
CREATED:20250912T154441Z
LAST-MODIFIED:20250912T154522Z
UID:10000249-1757754000-1757763000@thelocalminneapolis.com
SUMMARY:Everton vs. Aston Villa Premier League Watch Party - Saturday\, September 13\, 9:00 AM\, Downtown Minneapolis
DESCRIPTION:[vc_row][vc_column][vc_column_text css=””]Join us for the ultimate Premier League watch party at The Local – Minneapolis in downtown Minneapolis on Saturday\, September 13th! Everton vs. Aston Villa. Located on Nicollet Mall in downtown Minneapolis\, The Local – Minneapolis offers the perfect spot to gather with friends\, savor delicious food and drinks\, and experience the best game-day atmosphere at our Irish pub in downtown Minneapolis. Don’t miss out on this exciting sporting event at your favorite Irish pub in Minneapolis! Kick-off is at 9:00 AM\, and we can’t wait to see you there.[/vc_column_text][/vc_column][/vc_row]
URL:https://thelocalminneapolis.com/event/everton-vs-aston-villa-premier-league-watch-party-saturday-september-13-900-am-downtown-minneapolis/
LOCATION:The Local Minneapolis\, 931 Nicollet Mall\, Minneapolis\, MN\, 55402\, United States
CATEGORIES:Sporting Events
ATTACH;FMTTYPE=image/png:https://thelocalminneapolis.com/wp-content/uploads/2025/09/15.png
ORGANIZER;CN="The Local Minneapolis":MAILTO:contact@carairishpubs.com
GEO:44.9740816;-93.2743945
X-APPLE-STRUCTURED-LOCATION;VALUE=URI;X-ADDRESS=The Local Minneapolis 931 Nicollet Mall Minneapolis MN 55402 United States;X-APPLE-RADIUS=500;X-TITLE=931 Nicollet Mall:geo:-93.2743945,44.9740816
END:VEVENT
BEGIN:VEVENT
DTSTART;TZID=America/Chicago:20250914T103000
DTEND;TZID=America/Chicago:20250914T123000
DTSTAMP:20260421T063545
CREATED:20250827T194528Z
LAST-MODIFIED:20250827T194528Z
UID:10000236-1757845800-1757853000@thelocalminneapolis.com
SUMMARY:Manchester City vs. Manchester United Premier League Watch Party - Sunday\, September 14\, 10:30 AM\, Downtown Minneapolis
DESCRIPTION:[vc_row][vc_column][vc_column_text css=””]Join us for the ultimate Premier League watch party at The Local – Minneapolis in downtown Minneapolis on Sunday\, September 14th! Manchester City vs. Manchester United. Located on Nicollet Mall in downtown Minneapolis\, The Local – Minneapolis offers the perfect spot to gather with friends\, savor delicious food and drinks\, and experience the best game-day atmosphere at our Irish pub in downtown Minneapolis. Don’t miss out on this exciting sporting event at your favorite Irish pub in Minneapolis! Kick-off is at 10:30 AM\, and we can’t wait to see you there.[/vc_column_text][/vc_column][/vc_row]
URL:https://thelocalminneapolis.com/event/manchester-city-vs-manchester-united-premier-league-watch-party-sunday-september-14-1030-am-downtown-minneapolis/
LOCATION:The Local Minneapolis\, 931 Nicollet Mall\, Minneapolis\, MN\, 55402\, United States
CATEGORIES:Sporting Events
ATTACH;FMTTYPE=image/png:https://thelocalminneapolis.com/wp-content/uploads/2025/08/September-2025-Local-MPLS-Event-Thumbnails-3.png
ORGANIZER;CN="The Local Minneapolis":MAILTO:contact@carairishpubs.com
GEO:44.9740816;-93.2743945
X-APPLE-STRUCTURED-LOCATION;VALUE=URI;X-ADDRESS=The Local Minneapolis 931 Nicollet Mall Minneapolis MN 55402 United States;X-APPLE-RADIUS=500;X-TITLE=931 Nicollet Mall:geo:-93.2743945,44.9740816
END:VEVENT
BEGIN:VEVENT
DTSTART;TZID=America/Chicago:20250920T090000
DTEND;TZID=America/Chicago:20250920T110000
DTSTAMP:20260421T063545
CREATED:20250827T195728Z
LAST-MODIFIED:20250827T195846Z
UID:10000239-1758358800-1758366000@thelocalminneapolis.com
SUMMARY:Wolves vs. Leeds United Premier League Watch Party - Saturday\, September 20\, 9:00 AM\, Downtown Minneapolis
DESCRIPTION:[vc_row][vc_column][vc_column_text css=””]Join us for the ultimate Premier League watch party at The Local – Minneapolis in downtown Minneapolis on Saturday\, September 20th! Wolves vs. Leeds United. Located on Nicollet Mall in downtown Minneapolis\, The Local – Minneapolis offers the perfect spot to gather with friends\, savor delicious food and drinks\, and experience the best game-day atmosphere at our Irish pub in downtown Minneapolis. Don’t miss out on this exciting sporting event at your favorite Irish pub in Minneapolis! Kick-off is at 9:00 AM\, and we can’t wait to see you there.[/vc_column_text][/vc_column][/vc_row]
URL:https://thelocalminneapolis.com/event/wolves-vs-leeds-united-bundesliga-watch-party-saturday-september-20-900-am-downtown-minneapolis/
LOCATION:The Local Minneapolis\, 931 Nicollet Mall\, Minneapolis\, MN\, 55402\, United States
CATEGORIES:Sporting Events
ATTACH;FMTTYPE=image/png:https://thelocalminneapolis.com/wp-content/uploads/2025/08/September-2025-Local-MPLS-Event-Thumbnails-6.png
ORGANIZER;CN="The Local Minneapolis":MAILTO:contact@carairishpubs.com
GEO:44.9740816;-93.2743945
X-APPLE-STRUCTURED-LOCATION;VALUE=URI;X-ADDRESS=The Local Minneapolis 931 Nicollet Mall Minneapolis MN 55402 United States;X-APPLE-RADIUS=500;X-TITLE=931 Nicollet Mall:geo:-93.2743945,44.9740816
END:VEVENT
BEGIN:VEVENT
DTSTART;TZID=America/Chicago:20250920T113000
DTEND;TZID=America/Chicago:20250920T133000
DTSTAMP:20260421T063545
CREATED:20250827T200134Z
LAST-MODIFIED:20250827T200134Z
UID:10000240-1758367800-1758375000@thelocalminneapolis.com
SUMMARY:Manchester United vs. Chelsea Premier League Watch Party - Saturday\, September 20\, 11:30 AM\, Downtown Minneapolis
DESCRIPTION:[vc_row][vc_column][vc_column_text css=””]Join us for the ultimate Premier League watch party at The Local – Minneapolis in downtown Minneapolis on Saturday\, September 20th! Manchester United vs. Chelsea. Located on Nicollet Mall in downtown Minneapolis\, The Local – Minneapolis offers the perfect spot to gather with friends\, savor delicious food and drinks\, and experience the best game-day atmosphere at our Irish pub in downtown Minneapolis. Don’t miss out on this exciting sporting event at your favorite Irish pub in Minneapolis! Kick-off is at 11:30 AM\, and we can’t wait to see you there.[/vc_column_text][/vc_column][/vc_row]
URL:https://thelocalminneapolis.com/event/manchester-united-vs-chelsea-premier-league-watch-party-saturday-september-20-1130-am-downtown-minneapolis/
LOCATION:The Local Minneapolis\, 931 Nicollet Mall\, Minneapolis\, MN\, 55402\, United States
CATEGORIES:Sporting Events
ATTACH;FMTTYPE=image/png:https://thelocalminneapolis.com/wp-content/uploads/2025/08/September-2025-Local-MPLS-Event-Thumbnails-7.png
ORGANIZER;CN="The Local Minneapolis":MAILTO:contact@carairishpubs.com
GEO:44.9740816;-93.2743945
X-APPLE-STRUCTURED-LOCATION;VALUE=URI;X-ADDRESS=The Local Minneapolis 931 Nicollet Mall Minneapolis MN 55402 United States;X-APPLE-RADIUS=500;X-TITLE=931 Nicollet Mall:geo:-93.2743945,44.9740816
END:VEVENT
BEGIN:VEVENT
DTSTART;TZID=America/Chicago:20250921T103000
DTEND;TZID=America/Chicago:20250921T130000
DTSTAMP:20260421T063545
CREATED:20250917T153829Z
LAST-MODIFIED:20250917T153829Z
UID:10000252-1758450600-1758459600@thelocalminneapolis.com
SUMMARY:Arsenal vs. Manchester City Premier League Watch Party - Sunday\, September 21\, 10:30 AM\, Downtown Minneapolis
DESCRIPTION:[vc_row][vc_column][vc_column_text css=””]Join us for the ultimate Premier League watch party at The Local – Minneapolis in downtown Minneapolis on Sunday\, September 21st! Arsenal vs. Manchester City. Located on Nicollet Mall in downtown Minneapolis\, The Local – Minneapolis offers the perfect spot to gather with friends\, savor delicious food and drinks\, and experience the best game-day atmosphere at our Irish pub in downtown Minneapolis. Don’t miss out on this exciting sporting event at your favorite Irish pub in Minneapolis! Kick-off is at 10:30 AM\, and we can’t wait to see you there.[/vc_column_text][/vc_column][/vc_row]
URL:https://thelocalminneapolis.com/event/arsenal-vs-manchester-city-premier-league-watch-party-sunday-september-21-1030-am-downtown-minneapolis-2/
LOCATION:The Local Minneapolis\, 931 Nicollet Mall\, Minneapolis\, MN\, 55402\, United States
CATEGORIES:Sporting Events
ATTACH;FMTTYPE=image/png:https://thelocalminneapolis.com/wp-content/uploads/2025/09/September-2025-Local-MPLS-Event-Thumbnails-14.png
ORGANIZER;CN="The Local Minneapolis":MAILTO:contact@carairishpubs.com
GEO:44.9740816;-93.2743945
X-APPLE-STRUCTURED-LOCATION;VALUE=URI;X-ADDRESS=The Local Minneapolis 931 Nicollet Mall Minneapolis MN 55402 United States;X-APPLE-RADIUS=500;X-TITLE=931 Nicollet Mall:geo:-93.2743945,44.9740816
END:VEVENT
BEGIN:VEVENT
DTSTART;TZID=America/Chicago:20250923T133000
DTEND;TZID=America/Chicago:20250923T160000
DTSTAMP:20260421T063545
CREATED:20250912T155104Z
LAST-MODIFIED:20250912T155104Z
UID:10000250-1758634200-1758643200@thelocalminneapolis.com
SUMMARY:Wolverhampton Wolves vs. Everton Premier League Watch Party - Tuesday\, September 23\, 1:45 PM\, Downtown Minneapolis
DESCRIPTION:[vc_row][vc_column][vc_column_text css=””]Join us for the ultimate Premier League watch party at The Local – Minneapolis in downtown Minneapolis on Tuesday\, September 23rd! Wolves vs. Everton. Located on Nicollet Mall in downtown Minneapolis\, The Local – Minneapolis offers the perfect spot to gather with friends\, savor delicious food and drinks\, and experience the best game-day atmosphere at our Irish pub in downtown Minneapolis. Don’t miss out on this exciting sporting event at your favorite Irish pub in Minneapolis! Kick-off is at 1:45 PM\, and we can’t wait to see you there.[/vc_column_text][/vc_column][/vc_row]
URL:https://thelocalminneapolis.com/event/wolverhampton-wolves-vs-everton-premier-league-watch-party-tuesday-september-23-145-pm-downtown-minneapolis/
LOCATION:The Local Minneapolis\, 931 Nicollet Mall\, Minneapolis\, MN\, 55402\, United States
CATEGORIES:Sporting Events
ATTACH;FMTTYPE=image/png:https://thelocalminneapolis.com/wp-content/uploads/2025/09/16-1.png
ORGANIZER;CN="The Local Minneapolis":MAILTO:contact@carairishpubs.com
GEO:44.9740816;-93.2743945
X-APPLE-STRUCTURED-LOCATION;VALUE=URI;X-ADDRESS=The Local Minneapolis 931 Nicollet Mall Minneapolis MN 55402 United States;X-APPLE-RADIUS=500;X-TITLE=931 Nicollet Mall:geo:-93.2743945,44.9740816
END:VEVENT
BEGIN:VEVENT
DTSTART;TZID=America/Chicago:20250927T090000
DTEND;TZID=America/Chicago:20250927T110000
DTSTAMP:20260421T063545
CREATED:20250827T201933Z
LAST-MODIFIED:20250827T201933Z
UID:10000243-1758963600-1758970800@thelocalminneapolis.com
SUMMARY:Leeds United vs. Bournemouth Premier League Watch Party - Saturday\, September 27\, 9:00 AM\, Downtown Minneapolis
DESCRIPTION:[vc_row][vc_column][vc_column_text css=””]Join us for the ultimate Premier League watch party at The Local – Minneapolis in downtown Minneapolis on Saturday\, September 27th! Leeds United vs. Bournemouth. Located on Nicollet Mall in downtown Minneapolis\, The Local – Minneapolis offers the perfect spot to gather with friends\, savor delicious food and drinks\, and experience the best game-day atmosphere at our Irish pub in downtown Minneapolis. Don’t miss out on this exciting sporting event at your favorite Irish pub in Minneapolis! Kick-off is at 9:00 AM\, and we can’t wait to see you there.[/vc_column_text][/vc_column][/vc_row]
URL:https://thelocalminneapolis.com/event/leeds-united-vs-bournemouth-premier-league-watch-party-saturday-september-27-900-am-downtown-minneapolis/
LOCATION:The Local Minneapolis\, 931 Nicollet Mall\, Minneapolis\, MN\, 55402\, United States
CATEGORIES:Sporting Events
ATTACH;FMTTYPE=image/png:https://thelocalminneapolis.com/wp-content/uploads/2025/08/September-2025-Local-MPLS-Event-Thumbnails-11.png
ORGANIZER;CN="The Local Minneapolis":MAILTO:contact@carairishpubs.com
GEO:44.9740816;-93.2743945
X-APPLE-STRUCTURED-LOCATION;VALUE=URI;X-ADDRESS=The Local Minneapolis 931 Nicollet Mall Minneapolis MN 55402 United States;X-APPLE-RADIUS=500;X-TITLE=931 Nicollet Mall:geo:-93.2743945,44.9740816
END:VEVENT
BEGIN:VEVENT
DTSTART;TZID=America/Chicago:20250928T103000
DTEND;TZID=America/Chicago:20250928T113000
DTSTAMP:20260421T063545
CREATED:20250827T202655Z
LAST-MODIFIED:20250827T202655Z
UID:10000245-1759055400-1759059000@thelocalminneapolis.com
SUMMARY:Newcastle vs. Arsenal Premier League Watch Party - Sunday\, September 28\, 10:30 AM\, Downtown Minneapolis
DESCRIPTION:[vc_row][vc_column][vc_column_text css=””]Join us for the ultimate Premier League watch party at The Local – Minneapolis in downtown Minneapolis on Sunday\, September 28th! Newcastle vs. Arsenal. Located on Nicollet Mall in downtown Minneapolis\, The Local – Minneapolis offers the perfect spot to gather with friends\, savor delicious food and drinks\, and experience the best game-day atmosphere at our Irish pub in downtown Minneapolis. Don’t miss out on this exciting sporting event at your favorite Irish pub in Minneapolis! Kick-off is at 10:30 AM\, and we can’t wait to see you there.[/vc_column_text][/vc_column][/vc_row]
URL:https://thelocalminneapolis.com/event/newcastle-vs-arsenal-premier-league-watch-party-sunday-september-28-1030-am-downtown-minneapolis/
LOCATION:The Local Minneapolis\, 931 Nicollet Mall\, Minneapolis\, MN\, 55402\, United States
CATEGORIES:Sporting Events
ATTACH;FMTTYPE=image/png:https://thelocalminneapolis.com/wp-content/uploads/2025/08/September-2025-Local-MPLS-Event-Thumbnails-13.png
ORGANIZER;CN="The Local Minneapolis":MAILTO:contact@carairishpubs.com
GEO:44.9740816;-93.2743945
X-APPLE-STRUCTURED-LOCATION;VALUE=URI;X-ADDRESS=The Local Minneapolis 931 Nicollet Mall Minneapolis MN 55402 United States;X-APPLE-RADIUS=500;X-TITLE=931 Nicollet Mall:geo:-93.2743945,44.9740816
END:VEVENT
BEGIN:VEVENT
DTSTART;TZID=America/Chicago:20250929T140000
DTEND;TZID=America/Chicago:20250929T160000
DTSTAMP:20260421T063545
CREATED:20250912T155434Z
LAST-MODIFIED:20250912T155434Z
UID:10000251-1759154400-1759161600@thelocalminneapolis.com
SUMMARY:Everton vs. West Ham Premier League Watch Party - Monday\, September 29\, 2:00 PM\, Downtown Minneapolis
DESCRIPTION:[vc_row][vc_column][vc_column_text css=””]Join us for the ultimate Premier League watch party at The Local – Minneapolis in downtown Minneapolis on Monday\, September 29th! Everton vs. West Ham. Located on Nicollet Mall in downtown Minneapolis\, The Local – Minneapolis offers the perfect spot to gather with friends\, savor delicious food and drinks\, and experience the best game-day atmosphere at our Irish pub in downtown Minneapolis. Don’t miss out on this exciting sporting event at your favorite Irish pub in Minneapolis! Kick-off is at 2:00 PM\, and we can’t wait to see you there.[/vc_column_text][/vc_column][/vc_row]
URL:https://thelocalminneapolis.com/event/everton-vs-west-ham-premier-league-watch-party-monday-september-29-200-pm-downtown-minneapolis/
LOCATION:The Local Minneapolis\, 931 Nicollet Mall\, Minneapolis\, MN\, 55402\, United States
CATEGORIES:Sporting Events
ATTACH;FMTTYPE=image/png:https://thelocalminneapolis.com/wp-content/uploads/2025/09/17.png
ORGANIZER;CN="The Local Minneapolis":MAILTO:contact@carairishpubs.com
GEO:44.9740816;-93.2743945
X-APPLE-STRUCTURED-LOCATION;VALUE=URI;X-ADDRESS=The Local Minneapolis 931 Nicollet Mall Minneapolis MN 55402 United States;X-APPLE-RADIUS=500;X-TITLE=931 Nicollet Mall:geo:-93.2743945,44.9740816
END:VEVENT
END:VCALENDAR