BEGIN:VCALENDAR
VERSION:2.0
PRODID:-//The Local Minneapolis - ECPv6.15.20//NONSGML v1.0//EN
CALSCALE:GREGORIAN
METHOD:PUBLISH
X-ORIGINAL-URL:https://thelocalminneapolis.com
X-WR-CALDESC:Events for The Local Minneapolis
REFRESH-INTERVAL;VALUE=DURATION:PT1H
X-Robots-Tag:noindex
X-PUBLISHED-TTL:PT1H
BEGIN:VTIMEZONE
TZID:America/Chicago
BEGIN:DAYLIGHT
TZOFFSETFROM:-0600
TZOFFSETTO:-0500
TZNAME:CDT
DTSTART:20240310T080000
END:DAYLIGHT
BEGIN:STANDARD
TZOFFSETFROM:-0500
TZOFFSETTO:-0600
TZNAME:CST
DTSTART:20241103T070000
END:STANDARD
BEGIN:DAYLIGHT
TZOFFSETFROM:-0600
TZOFFSETTO:-0500
TZNAME:CDT
DTSTART:20250309T080000
END:DAYLIGHT
BEGIN:STANDARD
TZOFFSETFROM:-0500
TZOFFSETTO:-0600
TZNAME:CST
DTSTART:20251102T070000
END:STANDARD
BEGIN:DAYLIGHT
TZOFFSETFROM:-0600
TZOFFSETTO:-0500
TZNAME:CDT
DTSTART:20260308T080000
END:DAYLIGHT
BEGIN:STANDARD
TZOFFSETFROM:-0500
TZOFFSETTO:-0600
TZNAME:CST
DTSTART:20261101T070000
END:STANDARD
END:VTIMEZONE
BEGIN:VEVENT
DTSTART;TZID=America/Chicago:20251005T080000
DTEND;TZID=America/Chicago:20251005T100000
DTSTAMP:20260421T050906
CREATED:20250929T213527Z
LAST-MODIFIED:20250929T213527Z
UID:10000260-1759651200-1759658400@thelocalminneapolis.com
SUMMARY:Everton vs. Crystal Palace Premier League Watch Party - Sunday\, October 5\, 8:00 AM\, Downtown Minneapolis
DESCRIPTION:[vc_row][vc_column][vc_column_text css=””]Join us for the ultimate Premier League watch party at The Local – Minneapolis in downtown Minneapolis on Sunday\, October 5th! Everton vs. Crystal Palace. Located on Nicollet Mall in downtown Minneapolis\, The Local – Minneapolis offers the perfect spot to gather with friends\, savor delicious food and drinks\, and experience the best game-day atmosphere at our Irish pub in downtown Minneapolis.  \nDon’t miss out on this exciting sporting event at your favorite Irish pub in Minneapolis!  \nKick-off is at 8:00 AM\, and we can’t wait to see you there.[/vc_column_text][/vc_column][/vc_row]
URL:https://thelocalminneapolis.com/event/everton-vs-crystal-palace-premier-league-watch-party-sunday-october-5-800-am-downtown-minneapolis/
LOCATION:The Local Minneapolis\, 931 Nicollet Mall\, Minneapolis\, MN\, 55402\, United States
CATEGORIES:Sporting Events
ATTACH;FMTTYPE=image/png:https://thelocalminneapolis.com/wp-content/uploads/2025/09/October-2025-Local-MPLS-Event-Thumbnails-4.png
ORGANIZER;CN="The Local Minneapolis":MAILTO:contact@carairishpubs.com
GEO:44.9740816;-93.2743945
X-APPLE-STRUCTURED-LOCATION;VALUE=URI;X-ADDRESS=The Local Minneapolis 931 Nicollet Mall Minneapolis MN 55402 United States;X-APPLE-RADIUS=500;X-TITLE=931 Nicollet Mall:geo:-93.2743945,44.9740816
END:VEVENT
BEGIN:VEVENT
DTSTART;TZID=America/Chicago:20251018T090000
DTEND;TZID=America/Chicago:20251018T110000
DTSTAMP:20260421T050906
CREATED:20250929T225458Z
LAST-MODIFIED:20250929T225458Z
UID:10000262-1760778000-1760785200@thelocalminneapolis.com
SUMMARY:Manchester City vs. Everton Premier League Watch Party - Saturday\, October 18\, 9:00 AM\, Downtown Minneapolis
DESCRIPTION:[vc_row][vc_column][vc_column_text css=””]Join us for the ultimate Premier League watch party at The Local – Minneapolis in downtown Minneapolis on Saturday\, October 18th! Manchester City vs. Everton. Located on Nicollet Mall in downtown Minneapolis\, The Local – Minneapolis offers the perfect spot to gather with friends\, savor delicious food and drinks\, and experience the best game-day atmosphere at our Irish pub in downtown Minneapolis.  \nDon’t miss out on this exciting sporting event at your favorite Irish pub in Minneapolis!  \nKick-off is at 9:00 AM\, and we can’t wait to see you there.[/vc_column_text][/vc_column][/vc_row]
URL:https://thelocalminneapolis.com/event/manchester-city-vs-everton-premier-league-watch-party-saturday-october-18-900-am-downtown-minneapolis/
LOCATION:The Local Minneapolis\, 931 Nicollet Mall\, Minneapolis\, MN\, 55402\, United States
CATEGORIES:Sporting Events
ATTACH;FMTTYPE=image/png:https://thelocalminneapolis.com/wp-content/uploads/2025/09/October-2025-Local-MPLS-Event-Thumbnails-6.png
ORGANIZER;CN="The Local Minneapolis":MAILTO:contact@carairishpubs.com
GEO:44.9740816;-93.2743945
X-APPLE-STRUCTURED-LOCATION;VALUE=URI;X-ADDRESS=The Local Minneapolis 931 Nicollet Mall Minneapolis MN 55402 United States;X-APPLE-RADIUS=500;X-TITLE=931 Nicollet Mall:geo:-93.2743945,44.9740816
END:VEVENT
BEGIN:VEVENT
DTSTART;TZID=America/Chicago:20251018T090000
DTEND;TZID=America/Chicago:20251018T110000
DTSTAMP:20260421T050906
CREATED:20250929T225927Z
LAST-MODIFIED:20250929T225927Z
UID:10000263-1760778000-1760785200@thelocalminneapolis.com
SUMMARY:Burnley vs. Leeds United Premier League Watch Party - Saturday\, October 18\, 9:00 AM\, Downtown Minneapolis
DESCRIPTION:[vc_row][vc_column][vc_column_text css=””]Join us for the ultimate Premier League watch party at The Local – Minneapolis in downtown Minneapolis on Saturday\, October 18th! Burnley vs. Leeds United. Located on Nicollet Mall in downtown Minneapolis\, The Local – Minneapolis offers the perfect spot to gather with friends\, savor delicious food and drinks\, and experience the best game-day atmosphere at our Irish pub in downtown Minneapolis.  \nDon’t miss out on this exciting sporting event at your favorite Irish pub in Minneapolis!  \nKick-off is at 9:00 AM\, and we can’t wait to see you there.[/vc_column_text][/vc_column][/vc_row]
URL:https://thelocalminneapolis.com/event/burnley-vs-leeds-united-premier-league-watch-party-saturday-october-18-900-am-downtown-minneapolis/
LOCATION:The Local Minneapolis\, 931 Nicollet Mall\, Minneapolis\, MN\, 55402\, United States
CATEGORIES:Sporting Events
ATTACH;FMTTYPE=image/png:https://thelocalminneapolis.com/wp-content/uploads/2025/09/October-2025-Local-MPLS-Event-Thumbnails-7.png
ORGANIZER;CN="The Local Minneapolis":MAILTO:contact@carairishpubs.com
GEO:44.9740816;-93.2743945
X-APPLE-STRUCTURED-LOCATION;VALUE=URI;X-ADDRESS=The Local Minneapolis 931 Nicollet Mall Minneapolis MN 55402 United States;X-APPLE-RADIUS=500;X-TITLE=931 Nicollet Mall:geo:-93.2743945,44.9740816
END:VEVENT
BEGIN:VEVENT
DTSTART;TZID=America/Chicago:20251018T113000
DTEND;TZID=America/Chicago:20251018T133000
DTSTAMP:20260421T050906
CREATED:20250929T230703Z
LAST-MODIFIED:20250929T230703Z
UID:10000265-1760787000-1760794200@thelocalminneapolis.com
SUMMARY:Fulham vs. Arsenal Premier League Watch Party - Saturday\, October 18\, 11:30 AM\, Downtown Minneapolis
DESCRIPTION:[vc_row][vc_column][vc_column_text css=””]Join us for the ultimate Premier League watch party at The Local – Minneapolis in downtown Minneapolis on Saturday\, October 18th! Fulham vs. Arsenal. Located on Nicollet Mall in downtown Minneapolis\, The Local – Minneapolis offers the perfect spot to gather with friends\, savor delicious food and drinks\, and experience the best game-day atmosphere at our Irish pub in downtown Minneapolis.  \nDon’t miss out on this exciting sporting event at your favorite Irish pub in Minneapolis!  \nKick-off is at 11:30 AM\, and we can’t wait to see you there.[/vc_column_text][/vc_column][/vc_row]
URL:https://thelocalminneapolis.com/event/fulham-vs-arsenal-premier-league-watch-party-saturday-october-18-1130-am-downtown-minneapolis/
LOCATION:The Local Minneapolis\, 931 Nicollet Mall\, Minneapolis\, MN\, 55402\, United States
CATEGORIES:Sporting Events
ATTACH;FMTTYPE=image/png:https://thelocalminneapolis.com/wp-content/uploads/2025/09/October-2025-Local-MPLS-Event-Thumbnails-9.png
ORGANIZER;CN="The Local Minneapolis":MAILTO:contact@carairishpubs.com
GEO:44.9740816;-93.2743945
X-APPLE-STRUCTURED-LOCATION;VALUE=URI;X-ADDRESS=The Local Minneapolis 931 Nicollet Mall Minneapolis MN 55402 United States;X-APPLE-RADIUS=500;X-TITLE=931 Nicollet Mall:geo:-93.2743945,44.9740816
END:VEVENT
BEGIN:VEVENT
DTSTART;TZID=America/Chicago:20251019T103000
DTEND;TZID=America/Chicago:20251019T123000
DTSTAMP:20260421T050906
CREATED:20250930T144422Z
LAST-MODIFIED:20250930T144422Z
UID:10000268-1760869800-1760877000@thelocalminneapolis.com
SUMMARY:Liverpool vs. Manchester United Premier League Watch Party - Sunday\, October 19\, 10:30 AM\, Downtown Minneapolis
DESCRIPTION:[vc_row][vc_column][vc_column_text css=””]Join us for the ultimate Premier League watch party at The Local – Minneapolis in downtown Minneapolis on Sunday\, October 19th! Liverpool vs. Manchester United. Located on Nicollet Mall in downtown Minneapolis\, The Local – Minneapolis offers the perfect spot to gather with friends\, savor delicious food and drinks\, and experience the best game-day atmosphere at our Irish pub in downtown Minneapolis.  \nDon’t miss out on this exciting sporting event at your favorite Irish pub in Minneapolis!  \nKick-off is at 10:30 AM\, and we can’t wait to see you there.[/vc_column_text][/vc_column][/vc_row]
URL:https://thelocalminneapolis.com/event/liverpool-vs-manchester-united-premier-league-watch-party-sunday-october-19-1030-am-downtown-minneapolis/
LOCATION:The Local Minneapolis\, 931 Nicollet Mall\, Minneapolis\, MN\, 55402\, United States
CATEGORIES:Sporting Events
ATTACH;FMTTYPE=image/png:https://thelocalminneapolis.com/wp-content/uploads/2025/09/October-2025-Local-MPLS-Event-Thumbnails-12.png
ORGANIZER;CN="The Local Minneapolis":MAILTO:contact@carairishpubs.com
GEO:44.9740816;-93.2743945
X-APPLE-STRUCTURED-LOCATION;VALUE=URI;X-ADDRESS=The Local Minneapolis 931 Nicollet Mall Minneapolis MN 55402 United States;X-APPLE-RADIUS=500;X-TITLE=931 Nicollet Mall:geo:-93.2743945,44.9740816
END:VEVENT
BEGIN:VEVENT
DTSTART;TZID=America/Chicago:20251024T140000
DTEND;TZID=America/Chicago:20251024T160000
DTSTAMP:20260421T050906
CREATED:20250930T153704Z
LAST-MODIFIED:20250930T153704Z
UID:10000274-1761314400-1761321600@thelocalminneapolis.com
SUMMARY:Leeds United vs. West Ham Premier League Watch Party - Friday\, October 24\, 2:00 PM\, Downtown Minneapolis
DESCRIPTION:[vc_row][vc_column][vc_column_text css=””]Join us for the ultimate Premier League watch party at The Local – Minneapolis in downtown Minneapolis on Friday\, October 24th! Leeds United vs. West Ham. Located on Nicollet Mall in downtown Minneapolis\, The Local – Minneapolis offers the perfect spot to gather with friends\, savor delicious food and drinks\, and experience the best game-day atmosphere at our Irish pub in downtown Minneapolis.  \nDon’t miss out on this exciting sporting event at your favorite Irish pub in Minneapolis!  \nKick-off is at 2:00 PM\, and we can’t wait to see you there.[/vc_column_text][/vc_column][/vc_row]
URL:https://thelocalminneapolis.com/event/leeds-united-vs-west-ham-premier-league-watch-party-friday-october-24-200-pm-downtown-minneapolis/
LOCATION:The Local Minneapolis\, 931 Nicollet Mall\, Minneapolis\, MN\, 55402\, United States
CATEGORIES:Sporting Events
ATTACH;FMTTYPE=image/png:https://thelocalminneapolis.com/wp-content/uploads/2025/09/October-2025-Local-MPLS-Event-Thumbnails-18.png
ORGANIZER;CN="The Local Minneapolis":MAILTO:contact@carairishpubs.com
GEO:44.9740816;-93.2743945
X-APPLE-STRUCTURED-LOCATION;VALUE=URI;X-ADDRESS=The Local Minneapolis 931 Nicollet Mall Minneapolis MN 55402 United States;X-APPLE-RADIUS=500;X-TITLE=931 Nicollet Mall:geo:-93.2743945,44.9740816
END:VEVENT
BEGIN:VEVENT
DTSTART;TZID=America/Chicago:20251025T113000
DTEND;TZID=America/Chicago:20251025T133000
DTSTAMP:20260421T050906
CREATED:20250930T154416Z
LAST-MODIFIED:20250930T154416Z
UID:10000276-1761391800-1761399000@thelocalminneapolis.com
SUMMARY:Manchester United vs. Brighton Premier League Watch Party - Saturday\, October 25\, 11:30 AM\, Downtown Minneapolis
DESCRIPTION:[vc_row][vc_column][vc_column_text css=””]Join us for the ultimate Premier League watch party at The Local – Minneapolis in downtown Minneapolis on Saturday\, October 25th! Manchester United vs. Brighton. Located on Nicollet Mall in downtown Minneapolis\, The Local – Minneapolis offers the perfect spot to gather with friends\, savor delicious food and drinks\, and experience the best game-day atmosphere at our Irish pub in downtown Minneapolis.  \nDon’t miss out on this exciting sporting event at your favorite Irish pub in Minneapolis!  \nKick-off is at 11:30 AM\, and we can’t wait to see you there.[/vc_column_text][/vc_column][/vc_row]
URL:https://thelocalminneapolis.com/event/manchester-united-vs-brighton-premier-league-watch-party-saturday-october-25-1130-am-downtown-minneapolis/
LOCATION:The Local Minneapolis\, 931 Nicollet Mall\, Minneapolis\, MN\, 55402\, United States
CATEGORIES:Sporting Events
ATTACH;FMTTYPE=image/png:https://thelocalminneapolis.com/wp-content/uploads/2025/09/October-2025-Local-MPLS-Event-Thumbnails-20.png
ORGANIZER;CN="The Local Minneapolis":MAILTO:contact@carairishpubs.com
GEO:44.9740816;-93.2743945
X-APPLE-STRUCTURED-LOCATION;VALUE=URI;X-ADDRESS=The Local Minneapolis 931 Nicollet Mall Minneapolis MN 55402 United States;X-APPLE-RADIUS=500;X-TITLE=931 Nicollet Mall:geo:-93.2743945,44.9740816
END:VEVENT
BEGIN:VEVENT
DTSTART;TZID=America/Chicago:20251026T090000
DTEND;TZID=America/Chicago:20251026T110000
DTSTAMP:20260421T050906
CREATED:20250930T154707Z
LAST-MODIFIED:20250930T154707Z
UID:10000277-1761469200-1761476400@thelocalminneapolis.com
SUMMARY:Arsenal vs. Crystal Palace Premier League Watch Party - Sunday\, October 26\, 9:00 AM\, Downtown Minneapolis
DESCRIPTION:[vc_row][vc_column][vc_column_text css=””]Join us for the ultimate Premier League watch party at The Local – Minneapolis in downtown Minneapolis on Sunday\, October 26th! Arsenal vs. Crystal Palace. Located on Nicollet Mall in downtown Minneapolis\, The Local – Minneapolis offers the perfect spot to gather with friends\, savor delicious food and drinks\, and experience the best game-day atmosphere at our Irish pub in downtown Minneapolis.  \nDon’t miss out on this exciting sporting event at your favorite Irish pub in Minneapolis!  \nKick-off is at 9:00 AM\, and we can’t wait to see you there.[/vc_column_text][/vc_column][/vc_row]
URL:https://thelocalminneapolis.com/event/arsenal-vs-crystal-palace-premier-league-watch-party-sunday-october-26-900-am-downtown-minneapolis/
LOCATION:The Local Minneapolis\, 931 Nicollet Mall\, Minneapolis\, MN\, 55402\, United States
CATEGORIES:Sporting Events
ATTACH;FMTTYPE=image/png:https://thelocalminneapolis.com/wp-content/uploads/2025/09/October-2025-Local-MPLS-Event-Thumbnails-21.png
ORGANIZER;CN="The Local Minneapolis":MAILTO:contact@carairishpubs.com
GEO:44.9740816;-93.2743945
X-APPLE-STRUCTURED-LOCATION;VALUE=URI;X-ADDRESS=The Local Minneapolis 931 Nicollet Mall Minneapolis MN 55402 United States;X-APPLE-RADIUS=500;X-TITLE=931 Nicollet Mall:geo:-93.2743945,44.9740816
END:VEVENT
BEGIN:VEVENT
DTSTART;TZID=America/Chicago:20251026T113000
DTEND;TZID=America/Chicago:20251026T133000
DTSTAMP:20260421T050906
CREATED:20250930T155224Z
LAST-MODIFIED:20250930T155224Z
UID:10000279-1761478200-1761485400@thelocalminneapolis.com
SUMMARY:Everton vs. Tottenham Premier League Watch Party - Sunday\, October 26\, 11:30 AM\, Downtown Minneapolis
DESCRIPTION:[vc_row][vc_column][vc_column_text css=””]Join us for the ultimate Premier League watch party at The Local – Minneapolis in downtown Minneapolis on Sunday\, October 26th! Everton vs. Tottenham. Located on Nicollet Mall in downtown Minneapolis\, The Local – Minneapolis offers the perfect spot to gather with friends\, savor delicious food and drinks\, and experience the best game-day atmosphere at our Irish pub in downtown Minneapolis.  \nDon’t miss out on this exciting sporting event at your favorite Irish pub in Minneapolis!  \nKick-off is at 11:30 AM\, and we can’t wait to see you there.[/vc_column_text][/vc_column][/vc_row]
URL:https://thelocalminneapolis.com/event/everton-vs-tottenham-premier-league-watch-party-sunday-october-26-1130-am-downtown-minneapolis/
LOCATION:The Local Minneapolis\, 931 Nicollet Mall\, Minneapolis\, MN\, 55402\, United States
CATEGORIES:Sporting Events
ATTACH;FMTTYPE=image/png:https://thelocalminneapolis.com/wp-content/uploads/2025/09/October-2025-Local-MPLS-Event-Thumbnails-23.png
ORGANIZER;CN="The Local Minneapolis":MAILTO:contact@carairishpubs.com
GEO:44.9740816;-93.2743945
X-APPLE-STRUCTURED-LOCATION;VALUE=URI;X-ADDRESS=The Local Minneapolis 931 Nicollet Mall Minneapolis MN 55402 United States;X-APPLE-RADIUS=500;X-TITLE=931 Nicollet Mall:geo:-93.2743945,44.9740816
END:VEVENT
END:VCALENDAR