BEGIN:VCALENDAR
VERSION:2.0
PRODID:-//The Local Minneapolis - ECPv6.15.20//NONSGML v1.0//EN
CALSCALE:GREGORIAN
METHOD:PUBLISH
X-WR-CALNAME:The Local Minneapolis
X-ORIGINAL-URL:https://thelocalminneapolis.com
X-WR-CALDESC:Events for The Local Minneapolis
REFRESH-INTERVAL;VALUE=DURATION:PT1H
X-Robots-Tag:noindex
X-PUBLISHED-TTL:PT1H
BEGIN:VTIMEZONE
TZID:America/Chicago
BEGIN:DAYLIGHT
TZOFFSETFROM:-0600
TZOFFSETTO:-0500
TZNAME:CDT
DTSTART:20240310T080000
END:DAYLIGHT
BEGIN:STANDARD
TZOFFSETFROM:-0500
TZOFFSETTO:-0600
TZNAME:CST
DTSTART:20241103T070000
END:STANDARD
BEGIN:DAYLIGHT
TZOFFSETFROM:-0600
TZOFFSETTO:-0500
TZNAME:CDT
DTSTART:20250309T080000
END:DAYLIGHT
BEGIN:STANDARD
TZOFFSETFROM:-0500
TZOFFSETTO:-0600
TZNAME:CST
DTSTART:20251102T070000
END:STANDARD
BEGIN:DAYLIGHT
TZOFFSETFROM:-0600
TZOFFSETTO:-0500
TZNAME:CDT
DTSTART:20260308T080000
END:DAYLIGHT
BEGIN:STANDARD
TZOFFSETFROM:-0500
TZOFFSETTO:-0600
TZNAME:CST
DTSTART:20261101T070000
END:STANDARD
END:VTIMEZONE
BEGIN:VEVENT
DTSTART;TZID=America/Chicago:20251101T100000
DTEND;TZID=America/Chicago:20251101T120000
DTSTAMP:20260421T035023
CREATED:20251029T152059Z
LAST-MODIFIED:20251029T152325Z
UID:10000285-1761991200-1761998400@thelocalminneapolis.com
SUMMARY:Burnley vs. Arsenal Premier League Watch Party - Saturday\, November 1\, 10:00 AM\, Downtown Minneapolis
DESCRIPTION:[vc_row][vc_column][vc_column_text css=””]Join us for the ultimate Premier League watch party at The Local – Minneapolis in downtown Minneapolis on Saturday\, November 1st! Burnley vs. Arsenal. Located on Nicollet Mall in downtown Minneapolis\, The Local – Minneapolis offers the perfect spot to gather with friends\, savor delicious food and drinks\, and experience the best game-day atmosphere at our Irish pub in downtown Minneapolis.  \nDon’t miss out on this exciting sporting event at your favorite Irish pub in Minneapolis!  \nKick-off is at 10:00 AM\, and we can’t wait to see you there.[/vc_column_text][/vc_column][/vc_row]
URL:https://thelocalminneapolis.com/event/burnley-vs-arsenal-premier-league-watch-party-saturday-november-1-1000-am-downtown-minneapolis/
LOCATION:The Local Minneapolis\, 931 Nicollet Mall\, Minneapolis\, MN\, 55402\, United States
CATEGORIES:Sporting Events
ATTACH;FMTTYPE=image/png:https://thelocalminneapolis.com/wp-content/uploads/2025/10/1-1.png
ORGANIZER;CN="The Local Minneapolis":MAILTO:contact@carairishpubs.com
GEO:44.9740816;-93.2743945
X-APPLE-STRUCTURED-LOCATION;VALUE=URI;X-ADDRESS=The Local Minneapolis 931 Nicollet Mall Minneapolis MN 55402 United States;X-APPLE-RADIUS=500;X-TITLE=931 Nicollet Mall:geo:-93.2743945,44.9740816
END:VEVENT
BEGIN:VEVENT
DTSTART;TZID=America/Chicago:20251101T100000
DTEND;TZID=America/Chicago:20251101T120000
DTSTAMP:20260421T035023
CREATED:20251029T152247Z
LAST-MODIFIED:20251029T152247Z
UID:10000286-1761991200-1761998400@thelocalminneapolis.com
SUMMARY:Brighton vs. Leeds United Premier League Watch Party - Saturday\, November 1\, 10:00 AM\, Downtown Minneapolis
DESCRIPTION:[vc_row][vc_column][vc_column_text css=””]Join us for the ultimate Premier League watch party at The Local – Minneapolis in downtown Minneapolis on Saturday\, November 1st! Brighton vs. Leeds United. Located on Nicollet Mall in downtown Minneapolis\, The Local – Minneapolis offers the perfect spot to gather with friends\, savor delicious food and drinks\, and experience the best game-day atmosphere at our Irish pub in downtown Minneapolis.  \nDon’t miss out on this exciting sporting event at your favorite Irish pub in Minneapolis!  \nKick-off is at 10:00 AM\, and we can’t wait to see you there.[/vc_column_text][/vc_column][/vc_row]
URL:https://thelocalminneapolis.com/event/brighton-vs-leeds-united-premier-league-watch-party-saturday-november-1-1000-am-downtown-minneapolis/
LOCATION:The Local Minneapolis\, 931 Nicollet Mall\, Minneapolis\, MN\, 55402\, United States
CATEGORIES:Sporting Events
ATTACH;FMTTYPE=image/png:https://thelocalminneapolis.com/wp-content/uploads/2025/10/2.png
ORGANIZER;CN="The Local Minneapolis":MAILTO:contact@carairishpubs.com
GEO:44.9740816;-93.2743945
X-APPLE-STRUCTURED-LOCATION;VALUE=URI;X-ADDRESS=The Local Minneapolis 931 Nicollet Mall Minneapolis MN 55402 United States;X-APPLE-RADIUS=500;X-TITLE=931 Nicollet Mall:geo:-93.2743945,44.9740816
END:VEVENT
BEGIN:VEVENT
DTSTART;TZID=America/Chicago:20251101T100000
DTEND;TZID=America/Chicago:20251101T120000
DTSTAMP:20260421T035023
CREATED:20251029T152528Z
LAST-MODIFIED:20251029T152528Z
UID:10000287-1761991200-1761998400@thelocalminneapolis.com
SUMMARY:Nottingham Forest vs. Manchester United Premier League Watch Party - Saturday\, November 1\, 10:00 AM\, Downtown Minneapolis
DESCRIPTION:[vc_row][vc_column][vc_column_text css=””]Join us for the ultimate Premier League watch party at The Local – Minneapolis in downtown Minneapolis on Saturday\, November 1st! Nottingham Forest vs. Manchester United. Located on Nicollet Mall in downtown Minneapolis\, The Local – Minneapolis offers the perfect spot to gather with friends\, savor delicious food and drinks\, and experience the best game-day atmosphere at our Irish pub in downtown Minneapolis.  \nDon’t miss out on this exciting sporting event at your favorite Irish pub in Minneapolis!  \nKick-off is at 10:00 AM\, and we can’t wait to see you there.[/vc_column_text][/vc_column][/vc_row]
URL:https://thelocalminneapolis.com/event/nottingham-forest-vs-manchester-united-premier-league-watch-party-saturday-november-1-1000-am-downtown-minneapolis/
LOCATION:The Local Minneapolis\, 931 Nicollet Mall\, Minneapolis\, MN\, 55402\, United States
CATEGORIES:Sporting Events
ATTACH;FMTTYPE=image/png:https://thelocalminneapolis.com/wp-content/uploads/2025/10/3.png
ORGANIZER;CN="The Local Minneapolis":MAILTO:contact@carairishpubs.com
GEO:44.9740816;-93.2743945
X-APPLE-STRUCTURED-LOCATION;VALUE=URI;X-ADDRESS=The Local Minneapolis 931 Nicollet Mall Minneapolis MN 55402 United States;X-APPLE-RADIUS=500;X-TITLE=931 Nicollet Mall:geo:-93.2743945,44.9740816
END:VEVENT
BEGIN:VEVENT
DTSTART;TZID=America/Chicago:20251103T140000
DTEND;TZID=America/Chicago:20251103T160000
DTSTAMP:20260421T035023
CREATED:20251029T153833Z
LAST-MODIFIED:20251029T153833Z
UID:10000291-1762178400-1762185600@thelocalminneapolis.com
SUMMARY:Sunderland vs. Everton Premier League Watch Party - Monday\, November 3\, 2:00 PM\, Downtown Minneapolis
DESCRIPTION:[vc_row][vc_column][vc_column_text css=””]Join us for the ultimate Premier League watch party at The Local – Minneapolis in downtown Minneapolis on Monday\, November 3rd! Sunderland vs. Everton. Located on Nicollet Mall in downtown Minneapolis\, The Local – Minneapolis offers the perfect spot to gather with friends\, savor delicious food and drinks\, and experience the best game-day atmosphere at our Irish pub in downtown Minneapolis.  \nDon’t miss out on this exciting sporting event at your favorite Irish pub in Minneapolis!  \nKick-off is at 2:00 PM\, and we can’t wait to see you there.[/vc_column_text][/vc_column][/vc_row]
URL:https://thelocalminneapolis.com/event/sunderland-vs-everton-premier-league-watch-party-monday-november-3-200-pm-downtown-minneapolis/
LOCATION:The Local Minneapolis\, 931 Nicollet Mall\, Minneapolis\, MN\, 55402\, United States
CATEGORIES:Sporting Events
ATTACH;FMTTYPE=image/png:https://thelocalminneapolis.com/wp-content/uploads/2025/10/7.png
ORGANIZER;CN="The Local Minneapolis":MAILTO:contact@carairishpubs.com
GEO:44.9740816;-93.2743945
X-APPLE-STRUCTURED-LOCATION;VALUE=URI;X-ADDRESS=The Local Minneapolis 931 Nicollet Mall Minneapolis MN 55402 United States;X-APPLE-RADIUS=500;X-TITLE=931 Nicollet Mall:geo:-93.2743945,44.9740816
END:VEVENT
BEGIN:VEVENT
DTSTART;TZID=America/Chicago:20251108T090000
DTEND;TZID=America/Chicago:20251108T110000
DTSTAMP:20260421T035023
CREATED:20251029T161938Z
LAST-MODIFIED:20251029T161938Z
UID:10000298-1762592400-1762599600@thelocalminneapolis.com
SUMMARY:Everton vs. Fulham Premier League Watch Party - Saturday\, November 8\, 9:00 AM\, Downtown Minneapolis
DESCRIPTION:[vc_row][vc_column][vc_column_text css=””]Join us for the ultimate Premier League watch party at The Local – Minneapolis in downtown Minneapolis on Saturday\, November 8th! Everton vs. Fulham. Located on Nicollet Mall in downtown Minneapolis\, The Local – Minneapolis offers the perfect spot to gather with friends\, savor delicious food and drinks\, and experience the best game-day atmosphere at our Irish pub in downtown Minneapolis.  \nDon’t miss out on this exciting sporting event at your favorite Irish pub in Minneapolis!  \nKick-off is at 9:00 AM\, and we can’t wait to see you there.[/vc_column_text][/vc_column][/vc_row]
URL:https://thelocalminneapolis.com/event/everton-vs-fulham-premier-league-watch-party-saturday-november-8-900-am-downtown-minneapolis/
LOCATION:The Local Minneapolis\, 931 Nicollet Mall\, Minneapolis\, MN\, 55402\, United States
CATEGORIES:Sporting Events
ATTACH;FMTTYPE=image/png:https://thelocalminneapolis.com/wp-content/uploads/2025/10/14.png
ORGANIZER;CN="The Local Minneapolis":MAILTO:contact@carairishpubs.com
GEO:44.9740816;-93.2743945
X-APPLE-STRUCTURED-LOCATION;VALUE=URI;X-ADDRESS=The Local Minneapolis 931 Nicollet Mall Minneapolis MN 55402 United States;X-APPLE-RADIUS=500;X-TITLE=931 Nicollet Mall:geo:-93.2743945,44.9740816
END:VEVENT
BEGIN:VEVENT
DTSTART;TZID=America/Chicago:20251108T113000
DTEND;TZID=America/Chicago:20251108T133000
DTSTAMP:20260421T035023
CREATED:20251029T162650Z
LAST-MODIFIED:20251029T162650Z
UID:10000300-1762601400-1762608600@thelocalminneapolis.com
SUMMARY:Sunderland vs. Arsenal Premier League Watch Party - Saturday\, November 8\, 11:30 AM\, Downtown Minneapolis
DESCRIPTION:[vc_row][vc_column][vc_column_text css=””]Join us for the ultimate Premier League watch party at The Local – Minneapolis in downtown Minneapolis on Saturday\, November 8th! Sunderland vs. Arsenal. Located on Nicollet Mall in downtown Minneapolis\, The Local – Minneapolis offers the perfect spot to gather with friends\, savor delicious food and drinks\, and experience the best game-day atmosphere at our Irish pub in downtown Minneapolis.  \nDon’t miss out on this exciting sporting event at your favorite Irish pub in Minneapolis!  \nKick-off is at 11:30 AM\, and we can’t wait to see you there.[/vc_column_text][/vc_column][/vc_row]
URL:https://thelocalminneapolis.com/event/sunderland-vs-arsenal-premier-league-watch-party-saturday-november-8-1130-am-downtown-minneapolis/
LOCATION:The Local Minneapolis\, 931 Nicollet Mall\, Minneapolis\, MN\, 55402\, United States
CATEGORIES:Sporting Events
ATTACH;FMTTYPE=image/png:https://thelocalminneapolis.com/wp-content/uploads/2025/10/16.png
ORGANIZER;CN="The Local Minneapolis":MAILTO:contact@carairishpubs.com
GEO:44.9740816;-93.2743945
X-APPLE-STRUCTURED-LOCATION;VALUE=URI;X-ADDRESS=The Local Minneapolis 931 Nicollet Mall Minneapolis MN 55402 United States;X-APPLE-RADIUS=500;X-TITLE=931 Nicollet Mall:geo:-93.2743945,44.9740816
END:VEVENT
BEGIN:VEVENT
DTSTART;TZID=America/Chicago:20251109T083000
DTEND;TZID=America/Chicago:20251109T100000
DTSTAMP:20260421T035023
CREATED:20251029T162930Z
LAST-MODIFIED:20251029T162930Z
UID:10000301-1762677000-1762682400@thelocalminneapolis.com
SUMMARY:Nottingham Forest vs. Leeds United Premier League Watch Party - Sunday\, November 9\, 8:00 AM\, Downtown Minneapolis
DESCRIPTION:[vc_row][vc_column][vc_column_text css=””]Join us for the ultimate Premier League watch party at The Local – Minneapolis in downtown Minneapolis on Sunday\, November 9th! Nottingham Forest vs. Leeds United. Located on Nicollet Mall in downtown Minneapolis\, The Local – Minneapolis offers the perfect spot to gather with friends\, savor delicious food and drinks\, and experience the best game-day atmosphere at our Irish pub in downtown Minneapolis.  \nDon’t miss out on this exciting sporting event at your favorite Irish pub in Minneapolis!  \nKick-off is at 8:00 AM\, and we can’t wait to see you there.[/vc_column_text][/vc_column][/vc_row]
URL:https://thelocalminneapolis.com/event/nottingham-forest-vs-leeds-united-premier-league-watch-party-sunday-november-9-800-am-downtown-minneapolis/
LOCATION:The Local Minneapolis\, 931 Nicollet Mall\, Minneapolis\, MN\, 55402\, United States
CATEGORIES:Sporting Events
ATTACH;FMTTYPE=image/png:https://thelocalminneapolis.com/wp-content/uploads/2025/10/17.png
ORGANIZER;CN="The Local Minneapolis":MAILTO:contact@carairishpubs.com
GEO:44.9740816;-93.2743945
X-APPLE-STRUCTURED-LOCATION;VALUE=URI;X-ADDRESS=The Local Minneapolis 931 Nicollet Mall Minneapolis MN 55402 United States;X-APPLE-RADIUS=500;X-TITLE=931 Nicollet Mall:geo:-93.2743945,44.9740816
END:VEVENT
BEGIN:VEVENT
DTSTART;TZID=America/Chicago:20251123T080000
DTEND;TZID=America/Chicago:20251123T100000
DTSTAMP:20260421T035023
CREATED:20251029T164517Z
LAST-MODIFIED:20251029T164517Z
UID:10000306-1763884800-1763892000@thelocalminneapolis.com
SUMMARY:Leeds United vs. Aston Villa Premier League Watch Party - Sunday\, November 23\, 8:00 AM\, Downtown Minneapolis
DESCRIPTION:[vc_row][vc_column][vc_column_text css=””]Join us for the ultimate Premier League watch party at The Local – Minneapolis in downtown Minneapolis on Sunday\, November 23rd! Leeds United vs. Aston Villa. Located on Nicollet Mall in downtown Minneapolis\, The Local – Minneapolis offers the perfect spot to gather with friends\, savor delicious food and drinks\, and experience the best game-day atmosphere at our Irish pub in downtown Minneapolis.  \nDon’t miss out on this exciting sporting event at your favorite Irish pub in Minneapolis!  \nKick-off is at 8:00 AM\, and we can’t wait to see you there.[/vc_column_text][/vc_column][/vc_row]
URL:https://thelocalminneapolis.com/event/leeds-united-vs-aston-villa-premier-league-watch-party-sunday-november-23-800-am-downtown-minneapolis/
LOCATION:The Local Minneapolis\, 931 Nicollet Mall\, Minneapolis\, MN\, 55402\, United States
CATEGORIES:Sporting Events
ATTACH;FMTTYPE=image/png:https://thelocalminneapolis.com/wp-content/uploads/2025/10/22.png
ORGANIZER;CN="The Local Minneapolis":MAILTO:contact@carairishpubs.com
GEO:44.9740816;-93.2743945
X-APPLE-STRUCTURED-LOCATION;VALUE=URI;X-ADDRESS=The Local Minneapolis 931 Nicollet Mall Minneapolis MN 55402 United States;X-APPLE-RADIUS=500;X-TITLE=931 Nicollet Mall:geo:-93.2743945,44.9740816
END:VEVENT
BEGIN:VEVENT
DTSTART;TZID=America/Chicago:20251123T103000
DTEND;TZID=America/Chicago:20251123T123000
DTSTAMP:20260421T035023
CREATED:20251029T164825Z
LAST-MODIFIED:20251029T164825Z
UID:10000307-1763893800-1763901000@thelocalminneapolis.com
SUMMARY:Arsenal vs. Tottenham Premier League Watch Party - Sunday\, November 23\, 10:30 AM\, Downtown Minneapolis
DESCRIPTION:[vc_row][vc_column][vc_column_text css=””]Join us for the ultimate Premier League watch party at The Local – Minneapolis in downtown Minneapolis on Sunday\, November 23rd! Arsenal vs. Tottenham. Located on Nicollet Mall in downtown Minneapolis\, The Local – Minneapolis offers the perfect spot to gather with friends\, savor delicious food and drinks\, and experience the best game-day atmosphere at our Irish pub in downtown Minneapolis.  \nDon’t miss out on this exciting sporting event at your favorite Irish pub in Minneapolis!  \nKick-off is at 10:30 AM\, and we can’t wait to see you there.[/vc_column_text][/vc_column][/vc_row]
URL:https://thelocalminneapolis.com/event/arsenal-vs-tottenham-premier-league-watch-party-sunday-november-23-1030-am-downtown-minneapolis/
LOCATION:The Local Minneapolis\, 931 Nicollet Mall\, Minneapolis\, MN\, 55402\, United States
CATEGORIES:Sporting Events
ATTACH;FMTTYPE=image/png:https://thelocalminneapolis.com/wp-content/uploads/2025/10/23.png
ORGANIZER;CN="The Local Minneapolis":MAILTO:contact@carairishpubs.com
GEO:44.9740816;-93.2743945
X-APPLE-STRUCTURED-LOCATION;VALUE=URI;X-ADDRESS=The Local Minneapolis 931 Nicollet Mall Minneapolis MN 55402 United States;X-APPLE-RADIUS=500;X-TITLE=931 Nicollet Mall:geo:-93.2743945,44.9740816
END:VEVENT
BEGIN:VEVENT
DTSTART;TZID=America/Chicago:20251124T140000
DTEND;TZID=America/Chicago:20251124T160000
DTSTAMP:20260421T035023
CREATED:20251029T165651Z
LAST-MODIFIED:20251029T165651Z
UID:10000309-1763992800-1764000000@thelocalminneapolis.com
SUMMARY:Manchester United vs. Everton Premier League Watch Party - Monday\, November 24\, 2:00 PM\, Downtown Minneapolis
DESCRIPTION:[vc_row][vc_column][vc_column_text css=””]Join us for the ultimate Premier League watch party at The Local – Minneapolis in downtown Minneapolis on Monday\, November 24th! Manchester United vs. Everton. Located on Nicollet Mall in downtown Minneapolis\, The Local – Minneapolis offers the perfect spot to gather with friends\, savor delicious food and drinks\, and experience the best game-day atmosphere at our Irish pub in downtown Minneapolis.  \nDon’t miss out on this exciting sporting event at your favorite Irish pub in Minneapolis!  \nKick-off is at 2:00 PM\, and we can’t wait to see you there.[/vc_column_text][/vc_column][/vc_row]
URL:https://thelocalminneapolis.com/event/manchester-united-vs-everton-premier-league-watch-party-monday-november-24-200-pm-downtown-minneapolis/
LOCATION:The Local Minneapolis\, 931 Nicollet Mall\, Minneapolis\, MN\, 55402\, United States
CATEGORIES:Sporting Events
ATTACH;FMTTYPE=image/png:https://thelocalminneapolis.com/wp-content/uploads/2025/10/25.png
ORGANIZER;CN="The Local Minneapolis":MAILTO:contact@carairishpubs.com
GEO:44.9740816;-93.2743945
X-APPLE-STRUCTURED-LOCATION;VALUE=URI;X-ADDRESS=The Local Minneapolis 931 Nicollet Mall Minneapolis MN 55402 United States;X-APPLE-RADIUS=500;X-TITLE=931 Nicollet Mall:geo:-93.2743945,44.9740816
END:VEVENT
BEGIN:VEVENT
DTSTART;TZID=America/Chicago:20251129T090000
DTEND;TZID=America/Chicago:20251129T110000
DTSTAMP:20260421T035023
CREATED:20251029T170951Z
LAST-MODIFIED:20251029T170951Z
UID:10000314-1764406800-1764414000@thelocalminneapolis.com
SUMMARY:Manchester City vs. Leeds United Premier League Watch Party - Saturday\, November 29\, 9:00 AM\, Downtown Minneapolis
DESCRIPTION:[vc_row][vc_column][vc_column_text css=””]Join us for the ultimate Premier League watch party at The Local – Minneapolis in downtown Minneapolis on Saturday\, November 29th! Manchester City vs. Leeds United. Located on Nicollet Mall in downtown Minneapolis\, The Local – Minneapolis offers the perfect spot to gather with friends\, savor delicious food and drinks\, and experience the best game-day atmosphere at our Irish pub in downtown Minneapolis.  \nDon’t miss out on this exciting sporting event at your favorite Irish pub in Minneapolis!  \nKick-off is at 9:00 AM\, and we can’t wait to see you there.[/vc_column_text][/vc_column][/vc_row]
URL:https://thelocalminneapolis.com/event/manchester-city-vs-leeds-united-premier-league-watch-party-saturday-november-29-900-am-downtown-minneapolis/
LOCATION:The Local Minneapolis\, 931 Nicollet Mall\, Minneapolis\, MN\, 55402\, United States
CATEGORIES:Sporting Events
ATTACH;FMTTYPE=image/png:https://thelocalminneapolis.com/wp-content/uploads/2025/10/30.png
ORGANIZER;CN="The Local Minneapolis":MAILTO:contact@carairishpubs.com
GEO:44.9740816;-93.2743945
X-APPLE-STRUCTURED-LOCATION;VALUE=URI;X-ADDRESS=The Local Minneapolis 931 Nicollet Mall Minneapolis MN 55402 United States;X-APPLE-RADIUS=500;X-TITLE=931 Nicollet Mall:geo:-93.2743945,44.9740816
END:VEVENT
BEGIN:VEVENT
DTSTART;TZID=America/Chicago:20251129T113000
DTEND;TZID=America/Chicago:20251129T133000
DTSTAMP:20260421T035023
CREATED:20251029T171208Z
LAST-MODIFIED:20251029T171208Z
UID:10000315-1764415800-1764423000@thelocalminneapolis.com
SUMMARY:Everton vs. Newcastle Premier League Watch Party - Saturday\, November 29\, 11:30 AM\, Downtown Minneapolis
DESCRIPTION:[vc_row][vc_column][vc_column_text css=””]Join us for the ultimate Premier League watch party at The Local – Minneapolis in downtown Minneapolis on Saturday\, November 29th! Everton vs. Newcastle. Located on Nicollet Mall in downtown Minneapolis\, The Local – Minneapolis offers the perfect spot to gather with friends\, savor delicious food and drinks\, and experience the best game-day atmosphere at our Irish pub in downtown Minneapolis.  \nDon’t miss out on this exciting sporting event at your favorite Irish pub in Minneapolis!  \nKick-off is at 11:30 AM\, and we can’t wait to see you there.[/vc_column_text][/vc_column][/vc_row]
URL:https://thelocalminneapolis.com/event/everton-vs-newcastle-premier-league-watch-party-saturday-november-29-1130-am-downtown-minneapolis/
LOCATION:The Local Minneapolis\, 931 Nicollet Mall\, Minneapolis\, MN\, 55402\, United States
CATEGORIES:Sporting Events
ATTACH;FMTTYPE=image/png:https://thelocalminneapolis.com/wp-content/uploads/2025/10/31.png
ORGANIZER;CN="The Local Minneapolis":MAILTO:contact@carairishpubs.com
GEO:44.9740816;-93.2743945
X-APPLE-STRUCTURED-LOCATION;VALUE=URI;X-ADDRESS=The Local Minneapolis 931 Nicollet Mall Minneapolis MN 55402 United States;X-APPLE-RADIUS=500;X-TITLE=931 Nicollet Mall:geo:-93.2743945,44.9740816
END:VEVENT
BEGIN:VEVENT
DTSTART;TZID=America/Chicago:20251130T103000
DTEND;TZID=America/Chicago:20251130T123000
DTSTAMP:20260421T035023
CREATED:20251029T171425Z
LAST-MODIFIED:20251029T171425Z
UID:10000316-1764498600-1764505800@thelocalminneapolis.com
SUMMARY:Chelsea vs. Arsenal Premier League Watch Party - Sunday\, November 30\, 10:30 AM\, Downtown Minneapolis
DESCRIPTION:[vc_row][vc_column][vc_column_text css=””]Join us for the ultimate Premier League watch party at The Local – Minneapolis in downtown Minneapolis on Sunday\, November 30th! Chelsea vs. Arsenal. Located on Nicollet Mall in downtown Minneapolis\, The Local – Minneapolis offers the perfect spot to gather with friends\, savor delicious food and drinks\, and experience the best game-day atmosphere at our Irish pub in downtown Minneapolis.  \nDon’t miss out on this exciting sporting event at your favorite Irish pub in Minneapolis!  \nKick-off is at 10:30 AM\, and we can’t wait to see you there.[/vc_column_text][/vc_column][/vc_row]
URL:https://thelocalminneapolis.com/event/chelsea-vs-arsenal-premier-league-watch-party-sunday-november-30-1030-am-downtown-minneapolis/
LOCATION:The Local Minneapolis\, 931 Nicollet Mall\, Minneapolis\, MN\, 55402\, United States
CATEGORIES:Sporting Events
ATTACH;FMTTYPE=image/png:https://thelocalminneapolis.com/wp-content/uploads/2025/10/32.png
ORGANIZER;CN="The Local Minneapolis":MAILTO:contact@carairishpubs.com
GEO:44.9740816;-93.2743945
X-APPLE-STRUCTURED-LOCATION;VALUE=URI;X-ADDRESS=The Local Minneapolis 931 Nicollet Mall Minneapolis MN 55402 United States;X-APPLE-RADIUS=500;X-TITLE=931 Nicollet Mall:geo:-93.2743945,44.9740816
END:VEVENT
END:VCALENDAR