BEGIN:VCALENDAR
VERSION:2.0
PRODID:-//The Local Minneapolis - ECPv6.15.20//NONSGML v1.0//EN
CALSCALE:GREGORIAN
METHOD:PUBLISH
X-ORIGINAL-URL:https://thelocalminneapolis.com
X-WR-CALDESC:Events for The Local Minneapolis
REFRESH-INTERVAL;VALUE=DURATION:PT1H
X-Robots-Tag:noindex
X-PUBLISHED-TTL:PT1H
BEGIN:VTIMEZONE
TZID:America/Chicago
BEGIN:DAYLIGHT
TZOFFSETFROM:-0600
TZOFFSETTO:-0500
TZNAME:CDT
DTSTART:20230312T080000
END:DAYLIGHT
BEGIN:STANDARD
TZOFFSETFROM:-0500
TZOFFSETTO:-0600
TZNAME:CST
DTSTART:20231105T070000
END:STANDARD
BEGIN:DAYLIGHT
TZOFFSETFROM:-0600
TZOFFSETTO:-0500
TZNAME:CDT
DTSTART:20240310T080000
END:DAYLIGHT
BEGIN:STANDARD
TZOFFSETFROM:-0500
TZOFFSETTO:-0600
TZNAME:CST
DTSTART:20241103T070000
END:STANDARD
BEGIN:DAYLIGHT
TZOFFSETFROM:-0600
TZOFFSETTO:-0500
TZNAME:CDT
DTSTART:20250309T080000
END:DAYLIGHT
BEGIN:STANDARD
TZOFFSETFROM:-0500
TZOFFSETTO:-0600
TZNAME:CST
DTSTART:20251102T070000
END:STANDARD
END:VTIMEZONE
BEGIN:VEVENT
DTSTART;TZID=America/Chicago:20241027T090000
DTEND;TZID=America/Chicago:20241027T110000
DTSTAMP:20260421T224539
CREATED:20241009T181719Z
LAST-MODIFIED:20241113T171224Z
UID:10000051-1730019600-1730026800@thelocalminneapolis.com
SUMMARY:Premier League Watch Party: West Ham vs Manchester United at The Local Minneapolis - October 27th\, 9:00am
DESCRIPTION:Kick off your weekend with an exhilarating Premier League Watch Party as West Ham takes on Manchester United at The Local Minneapolis! Join us on October 27th at 9:00 am at your favorite Irish pub on Nicollet Mall in downtown Minneapolis for the best game-day experience in town. \nBring your friends to enjoy hearty Irish breakfast options\, refreshing pints\, and an atmosphere filled with Premier League excitement. Whether you’re a passionate Manchester United supporter\, a West Ham fan\, or just here for the love of the game\, The Local Minneapolis is the place to be. \nArrive early to secure a seat\, grab a bite\, and cheer on your team with fellow fans in the heart of downtown Minneapolis at the ultimate Premier League Watch Party!
URL:https://thelocalminneapolis.com/event/premier-league-watch-party-west-ham-vs-manchester-united-the-local-minneapolis-oct-27-900am/
LOCATION:The Local Minneapolis\, 931 Nicollet Mall\, Minneapolis\, MN\, 55402\, United States
CATEGORIES:Sporting Events
ATTACH;FMTTYPE=image/png:https://thelocalminneapolis.com/wp-content/uploads/2024/10/7.png
ORGANIZER;CN="The Local Minneapolis":MAILTO:contact@carairishpubs.com
GEO:44.9740816;-93.2743945
X-APPLE-STRUCTURED-LOCATION;VALUE=URI;X-ADDRESS=The Local Minneapolis 931 Nicollet Mall Minneapolis MN 55402 United States;X-APPLE-RADIUS=500;X-TITLE=931 Nicollet Mall:geo:-93.2743945,44.9740816
END:VEVENT
BEGIN:VEVENT
DTSTART;TZID=America/Chicago:20241027T113000
DTEND;TZID=America/Chicago:20241027T133000
DTSTAMP:20260421T224539
CREATED:20241009T181955Z
LAST-MODIFIED:20241113T172220Z
UID:10000053-1730028600-1730035800@thelocalminneapolis.com
SUMMARY:Premier League Watch Party: Arsenal vs Liverpool at The Local Minneapolis - October 27th\, 11:30am
DESCRIPTION:Don’t miss a moment of the Premier League action as Arsenal faces off against Liverpool at The Local Minneapolis Irish Pub! Join us on October 27th at 11:30 am at our Nicollet Mall location in downtown Minneapolis for a thrilling Premier League Watch Party. \nBring your friends to experience the lively atmosphere\, delicious pub fare\, and cold pints at your favorite Irish pub in the heart of downtown. Whether you’re a die-hard Arsenal fan\, a loyal Liverpool supporter\, or simply here for the excitement\, The Local Minneapolis is the ultimate spot to take in every goal and cheer with fellow fans. \nArrive early to grab a prime seat\, soak up the game-day vibes\, and be part of an unforgettable Premier League Watch Party right in downtown Minneapolis!
URL:https://thelocalminneapolis.com/event/premier-league-watch-party-arsenal-vs-liverpool-the-local-minneapolis-oct-27-1130am/
LOCATION:MN
CATEGORIES:Sporting Events
ATTACH;FMTTYPE=image/png:https://thelocalminneapolis.com/wp-content/uploads/2024/10/9.png
ORGANIZER;CN="The Local Minneapolis":MAILTO:contact@carairishpubs.com
END:VEVENT
END:VCALENDAR