BEGIN:VCALENDAR
VERSION:2.0
PRODID:-//The Local Minneapolis - ECPv6.15.20//NONSGML v1.0//EN
CALSCALE:GREGORIAN
METHOD:PUBLISH
X-WR-CALNAME:The Local Minneapolis
X-ORIGINAL-URL:https://thelocalminneapolis.com
X-WR-CALDESC:Events for The Local Minneapolis
REFRESH-INTERVAL;VALUE=DURATION:PT1H
X-Robots-Tag:noindex
X-PUBLISHED-TTL:PT1H
BEGIN:VTIMEZONE
TZID:America/Chicago
BEGIN:DAYLIGHT
TZOFFSETFROM:-0600
TZOFFSETTO:-0500
TZNAME:CDT
DTSTART:20240310T080000
END:DAYLIGHT
BEGIN:STANDARD
TZOFFSETFROM:-0500
TZOFFSETTO:-0600
TZNAME:CST
DTSTART:20241103T070000
END:STANDARD
BEGIN:DAYLIGHT
TZOFFSETFROM:-0600
TZOFFSETTO:-0500
TZNAME:CDT
DTSTART:20250309T080000
END:DAYLIGHT
BEGIN:STANDARD
TZOFFSETFROM:-0500
TZOFFSETTO:-0600
TZNAME:CST
DTSTART:20251102T070000
END:STANDARD
BEGIN:DAYLIGHT
TZOFFSETFROM:-0600
TZOFFSETTO:-0500
TZNAME:CDT
DTSTART:20260308T080000
END:DAYLIGHT
BEGIN:STANDARD
TZOFFSETFROM:-0500
TZOFFSETTO:-0600
TZNAME:CST
DTSTART:20261101T070000
END:STANDARD
END:VTIMEZONE
BEGIN:VEVENT
DTSTART;TZID=America/Chicago:20250226T133000
DTEND;TZID=America/Chicago:20250226T143000
DTSTAMP:20260421T164115
CREATED:20250129T181318Z
LAST-MODIFIED:20250129T181318Z
UID:10000107-1740576600-1740580200@thelocalminneapolis.com
SUMMARY:Nottingham Forrest vs. Arsenal Premier League Watch Party - Wednesday\, February 26\, 1:30 PM\, Downtown Minneapolis
DESCRIPTION:Join us for the ultimate Premier League watch party at The Local – Minneapolis in downtown Minneapolis on Wednesday\, February 26th! Nottingham Forrest vs. Arsenal. Located on Nicollet Mall in downtown Minneapolis\, The Local – Minneapolis offers the perfect spot to gather with friends\, savor delicious food and drinks\, and experience the best game-day atmosphere at our Irish pub in downtown Minneapolis. Don’t miss out on this exciting sporting event at your favorite Irish pub in Minneapolis! Kick-off is at 1:30pm\, and we can’t wait to see you there.
URL:https://thelocalminneapolis.com/event/nottingham-forrest-vs-arsenal-premier-league-watch-party-wednesday-february-26-130-pm-downtown-minneapolis/
LOCATION:MN
CATEGORIES:Sporting Events
ATTACH;FMTTYPE=image/png:https://thelocalminneapolis.com/wp-content/uploads/2025/01/11-1.png
ORGANIZER;CN="The Local Minneapolis":MAILTO:contact@carairishpubs.com
END:VEVENT
BEGIN:VEVENT
DTSTART;TZID=America/Chicago:20250226T133000
DTEND;TZID=America/Chicago:20250226T143000
DTSTAMP:20260421T164115
CREATED:20250129T181610Z
LAST-MODIFIED:20250129T181610Z
UID:10000108-1740576600-1740580200@thelocalminneapolis.com
SUMMARY:Manchester United vs. Ipswich Town Premier League Watch Party - Wednesday\, February 26\, 1:30 PM\, Downtown Minneapolis
DESCRIPTION:Join us for the ultimate Premier League watch party at The Local – Minneapolis in downtown Minneapolis on Wednesday\, February 26th! Manchester United vs. Ipswich Town. Located on Nicollet Mall in downtown Minneapolis\, The Local – Minneapolis offers the perfect spot to gather with friends\, savor delicious food and drinks\, and experience the best game-day atmosphere at our Irish pub in downtown Minneapolis. Don’t miss out on this exciting sporting event at your favorite Irish pub in Minneapolis! Kick-off is at 1:30pm\, and we can’t wait to see you there.
URL:https://thelocalminneapolis.com/event/manchester-united-vs-ipswich-town-premier-league-watch-party-wednesday-february-26-130-pm-downtown-minneapolis/
LOCATION:MN
CATEGORIES:Sporting Events
ATTACH;FMTTYPE=image/png:https://thelocalminneapolis.com/wp-content/uploads/2025/01/12-1.png
ORGANIZER;CN="The Local Minneapolis":MAILTO:contact@carairishpubs.com
END:VEVENT
END:VCALENDAR